BEGIN:VCALENDAR
VERSION:2.0
PRODID:-//Events Calendar - ECPv6.15.20//NONSGML v1.0//EN
CALSCALE:GREGORIAN
METHOD:PUBLISH
X-WR-CALNAME:Events Calendar
X-ORIGINAL-URL:https://calendar.brainerd.com
X-WR-CALDESC:Events for Events Calendar
REFRESH-INTERVAL;VALUE=DURATION:PT1H
X-Robots-Tag:noindex
X-PUBLISHED-TTL:PT1H
BEGIN:VTIMEZONE
TZID:America/Chicago
BEGIN:DAYLIGHT
TZOFFSETFROM:-0600
TZOFFSETTO:-0500
TZNAME:CDT
DTSTART:20190310T080000
END:DAYLIGHT
BEGIN:STANDARD
TZOFFSETFROM:-0500
TZOFFSETTO:-0600
TZNAME:CST
DTSTART:20191103T070000
END:STANDARD
BEGIN:DAYLIGHT
TZOFFSETFROM:-0600
TZOFFSETTO:-0500
TZNAME:CDT
DTSTART:20200308T080000
END:DAYLIGHT
BEGIN:STANDARD
TZOFFSETFROM:-0500
TZOFFSETTO:-0600
TZNAME:CST
DTSTART:20201101T070000
END:STANDARD
BEGIN:DAYLIGHT
TZOFFSETFROM:-0600
TZOFFSETTO:-0500
TZNAME:CDT
DTSTART:20210314T080000
END:DAYLIGHT
BEGIN:STANDARD
TZOFFSETFROM:-0500
TZOFFSETTO:-0600
TZNAME:CST
DTSTART:20211107T070000
END:STANDARD
BEGIN:DAYLIGHT
TZOFFSETFROM:-0600
TZOFFSETTO:-0500
TZNAME:CDT
DTSTART:20220313T080000
END:DAYLIGHT
BEGIN:STANDARD
TZOFFSETFROM:-0500
TZOFFSETTO:-0600
TZNAME:CST
DTSTART:20221106T070000
END:STANDARD
END:VTIMEZONE
BEGIN:VEVENT
DTSTART;VALUE=DATE:20211002
DTEND;VALUE=DATE:20211004
DTSTAMP:20260420T012523
CREATED:20210903T163528Z
LAST-MODIFIED:20210903T163528Z
UID:24631-1633143600-1633229999@calendar.brainerd.com
SUMMARY:Oktoberfest Pub Crawl
DESCRIPTION:Take your own tour around Gull Lake to dine at one of our restaurants for some fantastic German food and drink specials. Support local Charity\, Confidence Learning Center by purchasing a commemorative mug the same day. Sign up at any of the establishments for a chance to WIN 2021 Oktoberfest tickets. \nTraveling for this event? Find Brainerd Lakes Area Lodging
URL:https://calendar.brainerd.com/event/oktoberfest-pub-crawl-2/
LOCATION:Grand View Lodge\, 23521 Nokomis Ave\, Nisswa\, MN\, 56468\, United States
GEO:46.495247;-94.3150012
X-APPLE-STRUCTURED-LOCATION;VALUE=URI;X-ADDRESS=Grand View Lodge 23521 Nokomis Ave Nisswa MN 56468 United States;X-APPLE-RADIUS=500;X-TITLE=23521 Nokomis Ave:geo:-94.3150012,46.495247
END:VEVENT
BEGIN:VEVENT
DTSTART;VALUE=DATE:20210219
DTEND;VALUE=DATE:20210223
DTSTAMP:20260420T012523
CREATED:20201019T182325Z
LAST-MODIFIED:20201019T182325Z
UID:23638-1613703600-1613962799@calendar.brainerd.com
SUMMARY:Gull Lake Frozen Fore
DESCRIPTION:The Gull Lake Frozen Fore Winter Weekend takes place in the Brainerd Lakes Area each February. This three-day celebration of all things winter\, brings together a weekend of activities and fun for adults. From snow golfing to dancing on a frozen lake\, this winter weekend is unlike any other. \nTraveling for this event? Find Brainerd Lakes Area Lodging
URL:https://calendar.brainerd.com/event/gull-lake-frozen-fore-3/
LOCATION:Hole In The Day Bay on Gull Lake\, 5056 Nashway Road\, Nisswa\, MN\, 56468\, United States
GEO:46.47741;-94.29831
X-APPLE-STRUCTURED-LOCATION;VALUE=URI;X-ADDRESS=Hole In The Day Bay on Gull Lake 5056 Nashway Road Nisswa MN 56468 United States;X-APPLE-RADIUS=500;X-TITLE=5056 Nashway Road:geo:-94.29831,46.47741
END:VEVENT
BEGIN:VEVENT
DTSTART;VALUE=DATE:20200221
DTEND;VALUE=DATE:20200225
DTSTAMP:20260420T012523
CREATED:20191023T001853Z
LAST-MODIFIED:20191023T001853Z
UID:21992-1582254000-1582513199@calendar.brainerd.com
SUMMARY:Gull Lake Frozen Fore
DESCRIPTION:The Gull Lake Frozen Fore Winter Weekend takes place in the Brainerd Lakes Area each February. This three-day celebration of all things winter\, brings together a weekend of activities and fun for adults. From snow golfing to dancing on a frozen lake\, this winter weekend is unlike any other. \nView more Brainerd MN Events & Activities | Find Brainerd Resorts | Book your Brainerd Hotel
URL:https://calendar.brainerd.com/event/gull-lake-frozen-fore-2/
LOCATION:Hole In The Day Bay on Gull Lake\, 5056 Nashway Road\, Nisswa\, MN\, 56468\, United States
GEO:46.47741;-94.29831
X-APPLE-STRUCTURED-LOCATION;VALUE=URI;X-ADDRESS=Hole In The Day Bay on Gull Lake 5056 Nashway Road Nisswa MN 56468 United States;X-APPLE-RADIUS=500;X-TITLE=5056 Nashway Road:geo:-94.29831,46.47741
END:VEVENT
END:VCALENDAR