BEGIN:VCALENDAR
VERSION:2.0
PRODID:-//Events Calendar - ECPv6.15.20//NONSGML v1.0//EN
CALSCALE:GREGORIAN
METHOD:PUBLISH
X-WR-CALNAME:Events Calendar
X-ORIGINAL-URL:https://calendar.brainerd.com
X-WR-CALDESC:Events for Events Calendar
REFRESH-INTERVAL;VALUE=DURATION:PT1H
X-Robots-Tag:noindex
X-PUBLISHED-TTL:PT1H
BEGIN:VTIMEZONE
TZID:America/Chicago
BEGIN:DAYLIGHT
TZOFFSETFROM:-0600
TZOFFSETTO:-0500
TZNAME:CDT
DTSTART:20190310T080000
END:DAYLIGHT
BEGIN:STANDARD
TZOFFSETFROM:-0500
TZOFFSETTO:-0600
TZNAME:CST
DTSTART:20191103T070000
END:STANDARD
BEGIN:DAYLIGHT
TZOFFSETFROM:-0600
TZOFFSETTO:-0500
TZNAME:CDT
DTSTART:20200308T080000
END:DAYLIGHT
BEGIN:STANDARD
TZOFFSETFROM:-0500
TZOFFSETTO:-0600
TZNAME:CST
DTSTART:20201101T070000
END:STANDARD
BEGIN:DAYLIGHT
TZOFFSETFROM:-0600
TZOFFSETTO:-0500
TZNAME:CDT
DTSTART:20210314T080000
END:DAYLIGHT
BEGIN:STANDARD
TZOFFSETFROM:-0500
TZOFFSETTO:-0600
TZNAME:CST
DTSTART:20211107T070000
END:STANDARD
BEGIN:DAYLIGHT
TZOFFSETFROM:-0600
TZOFFSETTO:-0500
TZNAME:CDT
DTSTART:20220313T080000
END:DAYLIGHT
BEGIN:STANDARD
TZOFFSETFROM:-0500
TZOFFSETTO:-0600
TZNAME:CST
DTSTART:20221106T070000
END:STANDARD
END:VTIMEZONE
BEGIN:VEVENT
DTSTART;TZID=America/Chicago:20210220T090000
DTEND;TZID=America/Chicago:20210220T150000
DTSTAMP:20260420T023406
CREATED:20201019T182000Z
LAST-MODIFIED:20201019T182000Z
UID:23636-1613811600-1613833200@calendar.brainerd.com
SUMMARY:"Fishing for Ducks" Ice Fishing Contest
DESCRIPTION:Ducks Unlimited Ice Fishing Contest \nSponsored by the Garrison Wildlife Ducks Unlimited Chapter\, Fishing for Ducks started in 2005 and draws more people than any other Ducks Unlimited event nationwide. \nThis contest is open to participants of all ages and will be located in the Garrison Bay area of the lake. Walleye\, northern pike\, perch\, tullibee\, burbot\, rock bass\, largemouth bass\, crappie and sunfish are eligible in this tournament. \nAll proceeds from the contest benefit Duck’s Unlimited’s mission of conserving\, restoring and managing wetlands for waterfowl. \nFriday Night Flight – party and pre-registration\nSaturday – Fishing Tournament – Noon till 3 pm. Gates open at 9 am. \nTraveling for this event? Find Brainerd Lakes Area Lodging
URL:https://calendar.brainerd.com/event/fishing-for-ducks-ice-fishing-contest-4/
LOCATION:Garrison Bay\, Garrison\, MN\, 56450\, United States
ORGANIZER;CN="Garrison Wildlife Ducks Unlimited Chapter":MAILTO:mndu@mtn.org
GEO:46.309126;-93.803865
END:VEVENT
BEGIN:VEVENT
DTSTART;VALUE=DATE:20210219
DTEND;VALUE=DATE:20210223
DTSTAMP:20260420T023406
CREATED:20210122T154646Z
LAST-MODIFIED:20210122T154646Z
UID:23861-1613703600-1613962799@calendar.brainerd.com
SUMMARY:17th Annual Fishing for Ducks Contest
DESCRIPTION:Traveling for this event? Find Brainerd Lakes Area Lodging
URL:https://calendar.brainerd.com/event/17th-annual-fishing-for-ducks-contest/
LOCATION:Mille Lacs Lake\, US-169\, Garrison\, MN\, 56450\, United States
ORGANIZER;CN="Garrison Wildlife Ducks Unlimited Chapter":MAILTO:mndu@mtn.org
GEO:46.2624729;-93.8241715
X-APPLE-STRUCTURED-LOCATION;VALUE=URI;X-ADDRESS=Mille Lacs Lake US-169 Garrison MN 56450 United States;X-APPLE-RADIUS=500;X-TITLE=US-169:geo:-93.8241715,46.2624729
END:VEVENT
BEGIN:VEVENT
DTSTART;TZID=America/Chicago:20200215T090000
DTEND;TZID=America/Chicago:20200215T150000
DTSTAMP:20260420T023406
CREATED:20191023T001507Z
LAST-MODIFIED:20191023T001507Z
UID:21990-1581757200-1581778800@calendar.brainerd.com
SUMMARY:"Fishing for Ducks" Ice Fishing Contest
DESCRIPTION:Ducks Unlimited Ice Fishing Contest \nSponsored by the Garrison Wildlife Ducks Unlimited Chapter\, Fishing for Ducks started in 2005 and draws more people than any other Ducks Unlimited event nationwide. \nThis contest is open to participants of all ages and will be located in the Garrison Bay area of the lake. Walleye\, northern pike\, perch\, tullibee\, burbot\, rock bass\, largemouth bass\, crappie and sunfish are eligible in this tournament. \nAll proceeds from the contest benefit Duck’s Unlimited’s mission of conserving\, restoring and managing wetlands for waterfowl. \nFriday Night Flight – party and pre-registration\nSaturday – Fishing Tournament – Noon till 3 pm. Gates open at 9 am. \nView more Brainerd MN Events & Activities | Find Brainerd Resorts | Book your Brainerd Hotel
URL:https://calendar.brainerd.com/event/fishing-for-ducks-ice-fishing-contest-3/
LOCATION:Garrison Bay\, Garrison\, MN\, 56450\, United States
ORGANIZER;CN="Garrison Wildlife Ducks Unlimited Chapter":MAILTO:mndu@mtn.org
GEO:46.309126;-93.803865
END:VEVENT
END:VCALENDAR