BEGIN:VCALENDAR
VERSION:2.0
PRODID:-//Events Calendar - ECPv6.15.20//NONSGML v1.0//EN
CALSCALE:GREGORIAN
METHOD:PUBLISH
X-ORIGINAL-URL:https://calendar.brainerd.com
X-WR-CALDESC:Events for Events Calendar
REFRESH-INTERVAL;VALUE=DURATION:PT1H
X-Robots-Tag:noindex
X-PUBLISHED-TTL:PT1H
BEGIN:VTIMEZONE
TZID:America/Chicago
BEGIN:DAYLIGHT
TZOFFSETFROM:-0600
TZOFFSETTO:-0500
TZNAME:CDT
DTSTART:20240310T080000
END:DAYLIGHT
BEGIN:STANDARD
TZOFFSETFROM:-0500
TZOFFSETTO:-0600
TZNAME:CST
DTSTART:20241103T070000
END:STANDARD
BEGIN:DAYLIGHT
TZOFFSETFROM:-0600
TZOFFSETTO:-0500
TZNAME:CDT
DTSTART:20250309T080000
END:DAYLIGHT
BEGIN:STANDARD
TZOFFSETFROM:-0500
TZOFFSETTO:-0600
TZNAME:CST
DTSTART:20251102T070000
END:STANDARD
BEGIN:DAYLIGHT
TZOFFSETFROM:-0600
TZOFFSETTO:-0500
TZNAME:CDT
DTSTART:20260308T080000
END:DAYLIGHT
BEGIN:STANDARD
TZOFFSETFROM:-0500
TZOFFSETTO:-0600
TZNAME:CST
DTSTART:20261101T070000
END:STANDARD
END:VTIMEZONE
BEGIN:VEVENT
DTSTART;TZID=America/Chicago:20251106T180000
DTEND;TZID=America/Chicago:20251106T200000
DTSTAMP:20260422T230010
CREATED:20251020T191738Z
LAST-MODIFIED:20251020T191738Z
UID:43431-1762452000-1762459200@calendar.brainerd.com
SUMMARY:Brainerd Takes Action for the Boundary Waters
DESCRIPTION:Brainerd Takes Action is a community event for everyone who cares about outdoor recreation\, fishing\, camping and clean water. You’ll hear updates on the Boundary Waters Wilderness protection work from Associate Director Sam Chadwick and more about new water quality research from Conservation Biologist Andrew Gardon. Come learn tools and tips you need to engage in advocacy for the lands and waterways you care about. Refreshments provided\, and stickers and lawn signs will be available! The event will be held at the Northland Arboretum (14250 Conservation Dr\, Baxter\, MN 56425) on November 6th from 6:00 – 8:00 PM. \nView more Brainerd MN Events & Activities | Find Brainerd Resorts | Book your Brainerd Hotel
URL:https://calendar.brainerd.com/event/brainerd-takes-action-for-the-boundary-waters/
LOCATION:Northland Arboretum\, 14250 Conservation Drive\, Brainerd\, MN\, 56401\, United States
ORGANIZER;CN="Ben Karlgaard":MAILTO:ben@savetheboundarywaters.org
GEO:46.3594885;-94.2279968
X-APPLE-STRUCTURED-LOCATION;VALUE=URI;X-ADDRESS=Northland Arboretum 14250 Conservation Drive Brainerd MN 56401 United States;X-APPLE-RADIUS=500;X-TITLE=14250 Conservation Drive:geo:-94.2279968,46.3594885
END:VEVENT
END:VCALENDAR