BEGIN:VCALENDAR
VERSION:2.0
PRODID:-//Events Calendar - ECPv6.15.20//NONSGML v1.0//EN
CALSCALE:GREGORIAN
METHOD:PUBLISH
X-ORIGINAL-URL:https://calendar.brainerd.com
X-WR-CALDESC:Events for Events Calendar
REFRESH-INTERVAL;VALUE=DURATION:PT1H
X-Robots-Tag:noindex
X-PUBLISHED-TTL:PT1H
BEGIN:VTIMEZONE
TZID:America/Chicago
BEGIN:DAYLIGHT
TZOFFSETFROM:-0600
TZOFFSETTO:-0500
TZNAME:CDT
DTSTART:20250309T080000
END:DAYLIGHT
BEGIN:STANDARD
TZOFFSETFROM:-0500
TZOFFSETTO:-0600
TZNAME:CST
DTSTART:20251102T070000
END:STANDARD
BEGIN:DAYLIGHT
TZOFFSETFROM:-0600
TZOFFSETTO:-0500
TZNAME:CDT
DTSTART:20260308T080000
END:DAYLIGHT
BEGIN:STANDARD
TZOFFSETFROM:-0500
TZOFFSETTO:-0600
TZNAME:CST
DTSTART:20261101T070000
END:STANDARD
BEGIN:DAYLIGHT
TZOFFSETFROM:-0600
TZOFFSETTO:-0500
TZNAME:CDT
DTSTART:20270314T080000
END:DAYLIGHT
BEGIN:STANDARD
TZOFFSETFROM:-0500
TZOFFSETTO:-0600
TZNAME:CST
DTSTART:20271107T070000
END:STANDARD
END:VTIMEZONE
BEGIN:VEVENT
DTSTART;TZID=America/Chicago:20261118T170000
DTEND;TZID=America/Chicago:20261118T200000
DTSTAMP:20260420T105846
CREATED:20260126T185655Z
LAST-MODIFIED:20260126T185655Z
UID:43625-1795021200-1795032000@calendar.brainerd.com
SUMMARY:Pints for a Purpose
DESCRIPTION:🍻 Join us for Pints for a Purpose on November 18 at Jack Pine Brewery! 🎉 Stop by\, grab a beer\, and make a difference while learning about the important work Relationship Safety Alliance is doing in our community. 🎶 Enjoy live music\, delicious snacks and a silent auction! Plus\, for every pint sold\, $1+ will be donated directly to support our mission of saving lives and empowering those impacted by relationship abuse. Come out\, do some good\, and raise a glass with us! 🍻 \nView more Brainerd MN Events & Activities | Find Brainerd Resorts | Book your Brainerd Hotel
URL:https://calendar.brainerd.com/event/pints-for-a-purpose-3/
LOCATION:Jack Pine Brewery\, 15593 Edgewood Dr\, Baxter\, MN\, 56425
ORGANIZER;CN="Shannon Wussow":MAILTO:shannon.w@womenscenteronline.org
GEO:46.3806866;-94.2554938
X-APPLE-STRUCTURED-LOCATION;VALUE=URI;X-ADDRESS=Jack Pine Brewery 15593 Edgewood Dr Baxter MN 56425;X-APPLE-RADIUS=500;X-TITLE=15593 Edgewood Dr:geo:-94.2554938,46.3806866
END:VEVENT
END:VCALENDAR