BEGIN:VCALENDAR
VERSION:2.0
PRODID:-//Events Calendar - ECPv6.15.20//NONSGML v1.0//EN
CALSCALE:GREGORIAN
METHOD:PUBLISH
X-ORIGINAL-URL:https://calendar.brainerd.com
X-WR-CALDESC:Events for Events Calendar
REFRESH-INTERVAL;VALUE=DURATION:PT1H
X-Robots-Tag:noindex
X-PUBLISHED-TTL:PT1H
BEGIN:VTIMEZONE
TZID:America/Chicago
BEGIN:DAYLIGHT
TZOFFSETFROM:-0600
TZOFFSETTO:-0500
TZNAME:CDT
DTSTART:20250309T080000
END:DAYLIGHT
BEGIN:STANDARD
TZOFFSETFROM:-0500
TZOFFSETTO:-0600
TZNAME:CST
DTSTART:20251102T070000
END:STANDARD
BEGIN:DAYLIGHT
TZOFFSETFROM:-0600
TZOFFSETTO:-0500
TZNAME:CDT
DTSTART:20260308T080000
END:DAYLIGHT
BEGIN:STANDARD
TZOFFSETFROM:-0500
TZOFFSETTO:-0600
TZNAME:CST
DTSTART:20261101T070000
END:STANDARD
BEGIN:DAYLIGHT
TZOFFSETFROM:-0600
TZOFFSETTO:-0500
TZNAME:CDT
DTSTART:20270314T080000
END:DAYLIGHT
BEGIN:STANDARD
TZOFFSETFROM:-0500
TZOFFSETTO:-0600
TZNAME:CST
DTSTART:20271107T070000
END:STANDARD
END:VTIMEZONE
BEGIN:VEVENT
DTSTART;TZID=America/Chicago:20261005T160000
DTEND;TZID=America/Chicago:20261005T200000
DTSTAMP:20260420T094509
CREATED:20260126T190201Z
LAST-MODIFIED:20260126T190201Z
UID:43632-1791216000-1791230400@calendar.brainerd.com
SUMMARY:TACO 'bout a FUNDRAISER
DESCRIPTION:Stop by Taco John’s in NE Brainerd between 4-8pm on Monday\, October 5th\, because 20% of all sales will be donated to Relationship Safety Alliance! Tell your friends too! \nView more Brainerd MN Events & Activities | Find Brainerd Resorts | Book your Brainerd Hotel
URL:https://calendar.brainerd.com/event/taco-bout-a-fundraiser/
LOCATION:Taco John’s\, 301 Washington Street\, Brainerd\, United States
ORGANIZER;CN="Shannon Wussow":MAILTO:shannon.w@womenscenteronline.org
END:VEVENT
BEGIN:VEVENT
DTSTART;TZID=America/Chicago:20261013T183000
DTEND;TZID=America/Chicago:20261013T200000
DTSTAMP:20260420T094509
CREATED:20260126T185913Z
LAST-MODIFIED:20260126T185913Z
UID:43626-1791916200-1791921600@calendar.brainerd.com
SUMMARY:Candlelight Vigil
DESCRIPTION:On Tuesday\, October 13 at 6:30 PM\, Relationship Safety Alliance will gather at Lyman P. White Park in Brainerd for our annual Candlelight Vigil held during Domestic Violence Awareness Month. This vigil honors the lives lost to domestic violence over the past year and provides space for remembrance\, reflection\, and community solidarity. This public event extends a special invitation to the families and friends of those we have lost\, as well as to advocates\, volunteers\, legislators\, and criminal justice professionals who work alongside survivors and their loved ones. This memorial is made possible through the Community Connect Project\, in partnership with Port Group Homes\, with support from Sourcewell. The event will proceed unless weather conditions are unsafe. We hope you will join us for this meaningful evening of remembrance and support. \nView more Brainerd MN Events & Activities | Find Brainerd Resorts | Book your Brainerd Hotel
URL:https://calendar.brainerd.com/event/candlelight-vigil/
LOCATION:Lyman P. White Park\, 484 E River Rd\, Brainerd\, United States
END:VEVENT
END:VCALENDAR