BEGIN:VCALENDAR
VERSION:2.0
PRODID:-//Events Calendar - ECPv6.15.20//NONSGML v1.0//EN
CALSCALE:GREGORIAN
METHOD:PUBLISH
X-ORIGINAL-URL:https://calendar.brainerd.com
X-WR-CALDESC:Events for Events Calendar
REFRESH-INTERVAL;VALUE=DURATION:PT1H
X-Robots-Tag:noindex
X-PUBLISHED-TTL:PT1H
BEGIN:VTIMEZONE
TZID:America/Chicago
BEGIN:DAYLIGHT
TZOFFSETFROM:-0600
TZOFFSETTO:-0500
TZNAME:CDT
DTSTART:20220313T080000
END:DAYLIGHT
BEGIN:STANDARD
TZOFFSETFROM:-0500
TZOFFSETTO:-0600
TZNAME:CST
DTSTART:20221106T070000
END:STANDARD
BEGIN:DAYLIGHT
TZOFFSETFROM:-0600
TZOFFSETTO:-0500
TZNAME:CDT
DTSTART:20230312T080000
END:DAYLIGHT
BEGIN:STANDARD
TZOFFSETFROM:-0500
TZOFFSETTO:-0600
TZNAME:CST
DTSTART:20231105T070000
END:STANDARD
BEGIN:DAYLIGHT
TZOFFSETFROM:-0600
TZOFFSETTO:-0500
TZNAME:CDT
DTSTART:20240310T080000
END:DAYLIGHT
BEGIN:STANDARD
TZOFFSETFROM:-0500
TZOFFSETTO:-0600
TZNAME:CST
DTSTART:20241103T070000
END:STANDARD
END:VTIMEZONE
BEGIN:VEVENT
DTSTART;TZID=America/Chicago:20231021T100000
DTEND;TZID=America/Chicago:20231021T180000
DTSTAMP:20260419T084011
CREATED:20231019T211715Z
LAST-MODIFIED:20231019T211715Z
UID:30847-1697882400-1697911200@calendar.brainerd.com
SUMMARY:Weekend Craft Sale at Boysnberries
DESCRIPTION:During weekends in October\, we have a fall craft sale with with all kinds of crafts\, fall décor\, baked goods\, and free hot apple cider.\nSaturday-Sundays in October \nTraveling for this event? Find Brainerd Lakes Area Lodging
URL:https://calendar.brainerd.com/event/weekend-craft-sale-at-boysnberries/2023-10-21/
LOCATION:Boys-N-Berries\, 9925 St. Mathias Road SW\, Brainerd\, MN\, 56401\, United States
GEO:46.299758;-94.231787
X-APPLE-STRUCTURED-LOCATION;VALUE=URI;X-ADDRESS=Boys-N-Berries 9925 St. Mathias Road SW Brainerd MN 56401 United States;X-APPLE-RADIUS=500;X-TITLE=9925 St. Mathias Road SW:geo:-94.231787,46.299758
END:VEVENT
END:VCALENDAR