BEGIN:VCALENDAR
VERSION:2.0
PRODID:-//Events Calendar - ECPv6.15.20//NONSGML v1.0//EN
CALSCALE:GREGORIAN
METHOD:PUBLISH
X-ORIGINAL-URL:https://calendar.brainerd.com
X-WR-CALDESC:Events for Events Calendar
REFRESH-INTERVAL;VALUE=DURATION:PT1H
X-Robots-Tag:noindex
X-PUBLISHED-TTL:PT1H
BEGIN:VTIMEZONE
TZID:America/Chicago
BEGIN:DAYLIGHT
TZOFFSETFROM:-0600
TZOFFSETTO:-0500
TZNAME:CDT
DTSTART:20190310T080000
END:DAYLIGHT
BEGIN:STANDARD
TZOFFSETFROM:-0500
TZOFFSETTO:-0600
TZNAME:CST
DTSTART:20191103T070000
END:STANDARD
BEGIN:DAYLIGHT
TZOFFSETFROM:-0600
TZOFFSETTO:-0500
TZNAME:CDT
DTSTART:20200308T080000
END:DAYLIGHT
BEGIN:STANDARD
TZOFFSETFROM:-0500
TZOFFSETTO:-0600
TZNAME:CST
DTSTART:20201101T070000
END:STANDARD
BEGIN:DAYLIGHT
TZOFFSETFROM:-0600
TZOFFSETTO:-0500
TZNAME:CDT
DTSTART:20210314T080000
END:DAYLIGHT
BEGIN:STANDARD
TZOFFSETFROM:-0500
TZOFFSETTO:-0600
TZNAME:CST
DTSTART:20211107T070000
END:STANDARD
END:VTIMEZONE
BEGIN:VEVENT
DTSTART;TZID=America/Chicago:20201125T150000
DTEND;TZID=America/Chicago:20201125T200000
DTSTAMP:20260419T155157
CREATED:20201110T152316Z
LAST-MODIFIED:20201110T154200Z
UID:23787-1606316400-1606334400@calendar.brainerd.com
SUMMARY:Thanksgiving Meal Pickup - Prairie Bay
DESCRIPTION:Traveling for this event? Find Brainerd Lakes Area Lodging
URL:https://calendar.brainerd.com/event/thanksgiving-meal-pickup-prairie-bay/2020-11-25/
LOCATION:Prairie Bay Grill\, 15115 Edgewood Drive\, Baxter\, MN\, 56425\, United States
GEO:46.3710393;-94.2468234
X-APPLE-STRUCTURED-LOCATION;VALUE=URI;X-ADDRESS=Prairie Bay Grill 15115 Edgewood Drive Baxter MN 56425 United States;X-APPLE-RADIUS=500;X-TITLE=15115 Edgewood Drive:geo:-94.2468234,46.3710393
END:VEVENT
END:VCALENDAR