BEGIN:VCALENDAR
VERSION:2.0
PRODID:-//Events Calendar - ECPv6.15.20//NONSGML v1.0//EN
CALSCALE:GREGORIAN
METHOD:PUBLISH
X-ORIGINAL-URL:https://calendar.brainerd.com
X-WR-CALDESC:Events for Events Calendar
REFRESH-INTERVAL;VALUE=DURATION:PT1H
X-Robots-Tag:noindex
X-PUBLISHED-TTL:PT1H
BEGIN:VTIMEZONE
TZID:America/Chicago
BEGIN:DAYLIGHT
TZOFFSETFROM:-0600
TZOFFSETTO:-0500
TZNAME:CDT
DTSTART:20230312T080000
END:DAYLIGHT
BEGIN:STANDARD
TZOFFSETFROM:-0500
TZOFFSETTO:-0600
TZNAME:CST
DTSTART:20231105T070000
END:STANDARD
BEGIN:DAYLIGHT
TZOFFSETFROM:-0600
TZOFFSETTO:-0500
TZNAME:CDT
DTSTART:20240310T080000
END:DAYLIGHT
BEGIN:STANDARD
TZOFFSETFROM:-0500
TZOFFSETTO:-0600
TZNAME:CST
DTSTART:20241103T070000
END:STANDARD
BEGIN:DAYLIGHT
TZOFFSETFROM:-0600
TZOFFSETTO:-0500
TZNAME:CDT
DTSTART:20250309T080000
END:DAYLIGHT
BEGIN:STANDARD
TZOFFSETFROM:-0500
TZOFFSETTO:-0600
TZNAME:CST
DTSTART:20251102T070000
END:STANDARD
END:VTIMEZONE
BEGIN:VEVENT
DTSTART;TZID=America/Chicago:20241128T110000
DTEND;TZID=America/Chicago:20241128T140000
DTSTAMP:20260423T072910
CREATED:20241107T204251Z
LAST-MODIFIED:20241107T204251Z
UID:39618-1732791600-1732802400@calendar.brainerd.com
SUMMARY:Thanksgiving Extravaganza - Quarterdeck Resort
DESCRIPTION:Kick off the season with a Thanksgiving feast that’ll make you grateful for more than just a day off. \nJoin us on November 27th from 4-9 PM for a pre-holiday dinner. On Thanksgiving Day\, we’re serving up a delicious Turkey Dinner with dessert from 11 AM to 2 PM—perfect for satisfying those holiday cravings. Adults can enjoy this feast for just $29\, while kids 12 and under eat for $15. Remember\, reservations are required to ensure you get a spot at the table! \nWe’ll continue to serve dinner that weekend from 11:30 AM to 9 PM\, so you can extend your Thanksgiving festivities! \n#morefunongull #gulllakemn #thanksgivinggrub \nView more Brainerd MN Events & Activities | Find Brainerd Resorts | Book your Brainerd Hotel
URL:https://calendar.brainerd.com/event/thanksgiving-extravaganza-quarterdeck-resort/2024-11-28/
LOCATION:Quarterdeck Resort\, 9820 Birch Bay Drive S.W.\, Nisswa\, MN\, 56468\, United States
GEO:46.4483751;-94.3634479
X-APPLE-STRUCTURED-LOCATION;VALUE=URI;X-ADDRESS=Quarterdeck Resort 9820 Birch Bay Drive S.W. Nisswa MN 56468 United States;X-APPLE-RADIUS=500;X-TITLE=9820 Birch Bay Drive S.W.:geo:-94.3634479,46.4483751
END:VEVENT
BEGIN:VEVENT
DTSTART;TZID=America/Chicago:20241127T160000
DTEND;TZID=America/Chicago:20241127T210000
DTSTAMP:20260423T072910
CREATED:20241107T204251Z
LAST-MODIFIED:20241107T204251Z
UID:39617-1732723200-1732741200@calendar.brainerd.com
SUMMARY:Thanksgiving Extravaganza - Quarterdeck Resort
DESCRIPTION:Kick off the season with a Thanksgiving feast that’ll make you grateful for more than just a day off. \nJoin us on November 27th from 4-9 PM for a pre-holiday dinner. On Thanksgiving Day\, we’re serving up a delicious Turkey Dinner with dessert from 11 AM to 2 PM—perfect for satisfying those holiday cravings. Adults can enjoy this feast for just $29\, while kids 12 and under eat for $15. Remember\, reservations are required to ensure you get a spot at the table! \nWe’ll continue to serve dinner that weekend from 11:30 AM to 9 PM\, so you can extend your Thanksgiving festivities! \n#morefunongull #gulllakemn #thanksgivinggrub \nView more Brainerd MN Events & Activities | Find Brainerd Resorts | Book your Brainerd Hotel
URL:https://calendar.brainerd.com/event/thanksgiving-extravaganza-quarterdeck-resort/2024-11-27/
LOCATION:Quarterdeck Resort\, 9820 Birch Bay Drive S.W.\, Nisswa\, MN\, 56468\, United States
GEO:46.4483751;-94.3634479
X-APPLE-STRUCTURED-LOCATION;VALUE=URI;X-ADDRESS=Quarterdeck Resort 9820 Birch Bay Drive S.W. Nisswa MN 56468 United States;X-APPLE-RADIUS=500;X-TITLE=9820 Birch Bay Drive S.W.:geo:-94.3634479,46.4483751
END:VEVENT
END:VCALENDAR