BEGIN:VCALENDAR
VERSION:2.0
PRODID:-//Events Calendar - ECPv6.15.20//NONSGML v1.0//EN
CALSCALE:GREGORIAN
METHOD:PUBLISH
X-ORIGINAL-URL:https://calendar.brainerd.com
X-WR-CALDESC:Events for Events Calendar
REFRESH-INTERVAL;VALUE=DURATION:PT1H
X-Robots-Tag:noindex
X-PUBLISHED-TTL:PT1H
BEGIN:VTIMEZONE
TZID:America/Chicago
BEGIN:DAYLIGHT
TZOFFSETFROM:-0600
TZOFFSETTO:-0500
TZNAME:CDT
DTSTART:20220313T080000
END:DAYLIGHT
BEGIN:STANDARD
TZOFFSETFROM:-0500
TZOFFSETTO:-0600
TZNAME:CST
DTSTART:20221106T070000
END:STANDARD
BEGIN:DAYLIGHT
TZOFFSETFROM:-0600
TZOFFSETTO:-0500
TZNAME:CDT
DTSTART:20230312T080000
END:DAYLIGHT
BEGIN:STANDARD
TZOFFSETFROM:-0500
TZOFFSETTO:-0600
TZNAME:CST
DTSTART:20231105T070000
END:STANDARD
BEGIN:DAYLIGHT
TZOFFSETFROM:-0600
TZOFFSETTO:-0500
TZNAME:CDT
DTSTART:20240310T080000
END:DAYLIGHT
BEGIN:STANDARD
TZOFFSETFROM:-0500
TZOFFSETTO:-0600
TZNAME:CST
DTSTART:20241103T070000
END:STANDARD
END:VTIMEZONE
BEGIN:VEVENT
DTSTART;TZID=America/Chicago:20230722T140000
DTEND;TZID=America/Chicago:20230722T160000
DTSTAMP:20260420T173757
CREATED:20230719T175252Z
LAST-MODIFIED:20230719T175252Z
UID:30092-1690034400-1690041600@calendar.brainerd.com
SUMMARY:Shrek: The Musical
DESCRIPTION:“Once upon a time\, there was a little ogre named Shrek…” And thus begins the tale of an unlikely hero who finds himself on a life-changing journey alongside a wisecracking donkey and a feisty princes who resists her rescue. \n*ASL interpreter available on Sunday\, July 23 \nTraveling for this event? Find Brainerd Lakes Area Lodging
URL:https://calendar.brainerd.com/event/shrek-the-musical-3/2023-07-22/
LOCATION:Pequot Lakes High School Theatre\, 30805 Olson Street\, Pequot Lakes\, MN\, 56472\, United States
GEO:46.600243;-94.3155457
X-APPLE-STRUCTURED-LOCATION;VALUE=URI;X-ADDRESS=Pequot Lakes High School Theatre 30805 Olson Street Pequot Lakes MN 56472 United States;X-APPLE-RADIUS=500;X-TITLE=30805 Olson Street:geo:-94.3155457,46.600243
END:VEVENT
END:VCALENDAR