BEGIN:VCALENDAR
VERSION:2.0
PRODID:-//Events Calendar - ECPv6.15.20//NONSGML v1.0//EN
CALSCALE:GREGORIAN
METHOD:PUBLISH
X-WR-CALNAME:Events Calendar
X-ORIGINAL-URL:https://calendar.brainerd.com
X-WR-CALDESC:Events for Events Calendar
REFRESH-INTERVAL;VALUE=DURATION:PT1H
X-Robots-Tag:noindex
X-PUBLISHED-TTL:PT1H
BEGIN:VTIMEZONE
TZID:America/Chicago
BEGIN:DAYLIGHT
TZOFFSETFROM:-0600
TZOFFSETTO:-0500
TZNAME:CDT
DTSTART:20240310T080000
END:DAYLIGHT
BEGIN:STANDARD
TZOFFSETFROM:-0500
TZOFFSETTO:-0600
TZNAME:CST
DTSTART:20241103T070000
END:STANDARD
BEGIN:DAYLIGHT
TZOFFSETFROM:-0600
TZOFFSETTO:-0500
TZNAME:CDT
DTSTART:20250309T080000
END:DAYLIGHT
BEGIN:STANDARD
TZOFFSETFROM:-0500
TZOFFSETTO:-0600
TZNAME:CST
DTSTART:20251102T070000
END:STANDARD
BEGIN:DAYLIGHT
TZOFFSETFROM:-0600
TZOFFSETTO:-0500
TZNAME:CDT
DTSTART:20260308T080000
END:DAYLIGHT
BEGIN:STANDARD
TZOFFSETFROM:-0500
TZOFFSETTO:-0600
TZNAME:CST
DTSTART:20261101T070000
END:STANDARD
END:VTIMEZONE
BEGIN:VEVENT
DTSTART;TZID=America/Chicago:20250831T160000
DTEND;TZID=America/Chicago:20250831T210000
DTSTAMP:20260423T094231
CREATED:20250606T194827Z
LAST-MODIFIED:20250606T194827Z
UID:41914-1756656000-1756674000@calendar.brainerd.com
SUMMARY:Riffs & Licks - Summer Acoustic Fest
DESCRIPTION:Join us at Quarterdeck Resort for Riffs & Licks ☆3rd Annual Quarterdeck Summer Acoustic Fest☆ \nIt’s #MoreFunOnGull Thursday\, August 28th – Sunday\, August 31st! \nWe kick off Thursday\, August 28th from 4p-9p with Live Music with the very talented Michael Pink\, and Brady Robertson! \nSome of the best local musicians will be strumming raw and vibrant music at our first annual Quarterdeck Summer Acoustic Weekend. Relax\, dance\, or float to the sound of acoustic velvety notes. It’s what lake life is all about– long summer days\, bonfires\, boozy drinks\, and the beach. Changes in latitude\, changes in attitude. We’ll see you this summer! \nView more Brainerd MN Events & Activities | Find Brainerd Resorts | Book your Brainerd Hotel
URL:https://calendar.brainerd.com/event/riffs-licks-summer-acoustic-fest-2/2025-08-31/
LOCATION:Quarterdeck Resort\, 9820 Birch Bay Drive S.W.\, Nisswa\, MN\, 56468\, United States
GEO:46.4483751;-94.3634479
X-APPLE-STRUCTURED-LOCATION;VALUE=URI;X-ADDRESS=Quarterdeck Resort 9820 Birch Bay Drive S.W. Nisswa MN 56468 United States;X-APPLE-RADIUS=500;X-TITLE=9820 Birch Bay Drive S.W.:geo:-94.3634479,46.4483751
END:VEVENT
BEGIN:VEVENT
DTSTART;TZID=America/Chicago:20250830T160000
DTEND;TZID=America/Chicago:20250830T210000
DTSTAMP:20260423T094231
CREATED:20250606T194827Z
LAST-MODIFIED:20250606T194827Z
UID:41913-1756569600-1756587600@calendar.brainerd.com
SUMMARY:Riffs & Licks - Summer Acoustic Fest
DESCRIPTION:Join us at Quarterdeck Resort for Riffs & Licks ☆3rd Annual Quarterdeck Summer Acoustic Fest☆ \nIt’s #MoreFunOnGull Thursday\, August 28th – Sunday\, August 31st! \nWe kick off Thursday\, August 28th from 4p-9p with Live Music with the very talented Michael Pink\, and Brady Robertson! \nSome of the best local musicians will be strumming raw and vibrant music at our first annual Quarterdeck Summer Acoustic Weekend. Relax\, dance\, or float to the sound of acoustic velvety notes. It’s what lake life is all about– long summer days\, bonfires\, boozy drinks\, and the beach. Changes in latitude\, changes in attitude. We’ll see you this summer! \nView more Brainerd MN Events & Activities | Find Brainerd Resorts | Book your Brainerd Hotel
URL:https://calendar.brainerd.com/event/riffs-licks-summer-acoustic-fest-2/2025-08-30/
LOCATION:Quarterdeck Resort\, 9820 Birch Bay Drive S.W.\, Nisswa\, MN\, 56468\, United States
GEO:46.4483751;-94.3634479
X-APPLE-STRUCTURED-LOCATION;VALUE=URI;X-ADDRESS=Quarterdeck Resort 9820 Birch Bay Drive S.W. Nisswa MN 56468 United States;X-APPLE-RADIUS=500;X-TITLE=9820 Birch Bay Drive S.W.:geo:-94.3634479,46.4483751
END:VEVENT
BEGIN:VEVENT
DTSTART;TZID=America/Chicago:20250829T160000
DTEND;TZID=America/Chicago:20250829T210000
DTSTAMP:20260423T094231
CREATED:20250606T194827Z
LAST-MODIFIED:20250606T194827Z
UID:41912-1756483200-1756501200@calendar.brainerd.com
SUMMARY:Riffs & Licks - Summer Acoustic Fest
DESCRIPTION:Join us at Quarterdeck Resort for Riffs & Licks ☆3rd Annual Quarterdeck Summer Acoustic Fest☆ \nIt’s #MoreFunOnGull Thursday\, August 28th – Sunday\, August 31st! \nWe kick off Thursday\, August 28th from 4p-9p with Live Music with the very talented Michael Pink\, and Brady Robertson! \nSome of the best local musicians will be strumming raw and vibrant music at our first annual Quarterdeck Summer Acoustic Weekend. Relax\, dance\, or float to the sound of acoustic velvety notes. It’s what lake life is all about– long summer days\, bonfires\, boozy drinks\, and the beach. Changes in latitude\, changes in attitude. We’ll see you this summer! \nView more Brainerd MN Events & Activities | Find Brainerd Resorts | Book your Brainerd Hotel
URL:https://calendar.brainerd.com/event/riffs-licks-summer-acoustic-fest-2/2025-08-29/
LOCATION:Quarterdeck Resort\, 9820 Birch Bay Drive S.W.\, Nisswa\, MN\, 56468\, United States
GEO:46.4483751;-94.3634479
X-APPLE-STRUCTURED-LOCATION;VALUE=URI;X-ADDRESS=Quarterdeck Resort 9820 Birch Bay Drive S.W. Nisswa MN 56468 United States;X-APPLE-RADIUS=500;X-TITLE=9820 Birch Bay Drive S.W.:geo:-94.3634479,46.4483751
END:VEVENT
BEGIN:VEVENT
DTSTART;TZID=America/Chicago:20250828T160000
DTEND;TZID=America/Chicago:20250828T210000
DTSTAMP:20260423T094231
CREATED:20250606T194827Z
LAST-MODIFIED:20250606T194827Z
UID:41911-1756396800-1756414800@calendar.brainerd.com
SUMMARY:Riffs & Licks - Summer Acoustic Fest
DESCRIPTION:Join us at Quarterdeck Resort for Riffs & Licks ☆3rd Annual Quarterdeck Summer Acoustic Fest☆ \nIt’s #MoreFunOnGull Thursday\, August 28th – Sunday\, August 31st! \nWe kick off Thursday\, August 28th from 4p-9p with Live Music with the very talented Michael Pink\, and Brady Robertson! \nSome of the best local musicians will be strumming raw and vibrant music at our first annual Quarterdeck Summer Acoustic Weekend. Relax\, dance\, or float to the sound of acoustic velvety notes. It’s what lake life is all about– long summer days\, bonfires\, boozy drinks\, and the beach. Changes in latitude\, changes in attitude. We’ll see you this summer! \nView more Brainerd MN Events & Activities | Find Brainerd Resorts | Book your Brainerd Hotel
URL:https://calendar.brainerd.com/event/riffs-licks-summer-acoustic-fest-2/2025-08-28/
LOCATION:Quarterdeck Resort\, 9820 Birch Bay Drive S.W.\, Nisswa\, MN\, 56468\, United States
GEO:46.4483751;-94.3634479
X-APPLE-STRUCTURED-LOCATION;VALUE=URI;X-ADDRESS=Quarterdeck Resort 9820 Birch Bay Drive S.W. Nisswa MN 56468 United States;X-APPLE-RADIUS=500;X-TITLE=9820 Birch Bay Drive S.W.:geo:-94.3634479,46.4483751
END:VEVENT
END:VCALENDAR