BEGIN:VCALENDAR
VERSION:2.0
PRODID:-//Events Calendar - ECPv6.15.20//NONSGML v1.0//EN
CALSCALE:GREGORIAN
METHOD:PUBLISH
X-WR-CALNAME:Events Calendar
X-ORIGINAL-URL:https://calendar.brainerd.com
X-WR-CALDESC:Events for Events Calendar
REFRESH-INTERVAL;VALUE=DURATION:PT1H
X-Robots-Tag:noindex
X-PUBLISHED-TTL:PT1H
BEGIN:VTIMEZONE
TZID:America/Chicago
BEGIN:DAYLIGHT
TZOFFSETFROM:-0600
TZOFFSETTO:-0500
TZNAME:CDT
DTSTART:20240310T080000
END:DAYLIGHT
BEGIN:STANDARD
TZOFFSETFROM:-0500
TZOFFSETTO:-0600
TZNAME:CST
DTSTART:20241103T070000
END:STANDARD
BEGIN:DAYLIGHT
TZOFFSETFROM:-0600
TZOFFSETTO:-0500
TZNAME:CDT
DTSTART:20250309T080000
END:DAYLIGHT
BEGIN:STANDARD
TZOFFSETFROM:-0500
TZOFFSETTO:-0600
TZNAME:CST
DTSTART:20251102T070000
END:STANDARD
BEGIN:DAYLIGHT
TZOFFSETFROM:-0600
TZOFFSETTO:-0500
TZNAME:CDT
DTSTART:20260308T080000
END:DAYLIGHT
BEGIN:STANDARD
TZOFFSETFROM:-0500
TZOFFSETTO:-0600
TZNAME:CST
DTSTART:20261101T070000
END:STANDARD
END:VTIMEZONE
BEGIN:VEVENT
DTSTART;TZID=America/Chicago:20250921T120000
DTEND;TZID=America/Chicago:20250921T180000
DTSTAMP:20260425T084842
CREATED:20250915T192137Z
LAST-MODIFIED:20250915T192137Z
UID:43004-1758456000-1758477600@calendar.brainerd.com
SUMMARY:Oktoberfest at Roundhouse
DESCRIPTION:It’s another OKTOBERFEST at Roundhouse!\nMellow Fellows will be taking the stage Friday night from 6-9pm along with Saturday 1-4pm!\nWe’ll have our Stein Holding Competition\, Beer Wench Contest\, and Hammernalgen! Bring out those lederhosen and drindl for a great weekend full of fun! Pröst! \nView more Brainerd MN Events & Activities | Find Brainerd Resorts | Book your Brainerd Hotel
URL:https://calendar.brainerd.com/event/oktoberfest-at-roundhouse/2025-09-21/
LOCATION:Roundhouse Brewery\, 23836 Smiley Rd\, Nisswa\, MN\, 56468\, United States
GEO:46.4976647;-94.2970957
X-APPLE-STRUCTURED-LOCATION;VALUE=URI;X-ADDRESS=Roundhouse Brewery 23836 Smiley Rd Nisswa MN 56468 United States;X-APPLE-RADIUS=500;X-TITLE=23836 Smiley Rd:geo:-94.2970957,46.4976647
END:VEVENT
BEGIN:VEVENT
DTSTART;TZID=America/Chicago:20250920T120000
DTEND;TZID=America/Chicago:20250920T180000
DTSTAMP:20260425T084842
CREATED:20250915T192137Z
LAST-MODIFIED:20250915T192137Z
UID:43003-1758369600-1758391200@calendar.brainerd.com
SUMMARY:Oktoberfest at Roundhouse
DESCRIPTION:It’s another OKTOBERFEST at Roundhouse!\nMellow Fellows will be taking the stage Friday night from 6-9pm along with Saturday 1-4pm!\nWe’ll have our Stein Holding Competition\, Beer Wench Contest\, and Hammernalgen! Bring out those lederhosen and drindl for a great weekend full of fun! Pröst! \nView more Brainerd MN Events & Activities | Find Brainerd Resorts | Book your Brainerd Hotel
URL:https://calendar.brainerd.com/event/oktoberfest-at-roundhouse/2025-09-20/
LOCATION:Roundhouse Brewery\, 23836 Smiley Rd\, Nisswa\, MN\, 56468\, United States
GEO:46.4976647;-94.2970957
X-APPLE-STRUCTURED-LOCATION;VALUE=URI;X-ADDRESS=Roundhouse Brewery 23836 Smiley Rd Nisswa MN 56468 United States;X-APPLE-RADIUS=500;X-TITLE=23836 Smiley Rd:geo:-94.2970957,46.4976647
END:VEVENT
BEGIN:VEVENT
DTSTART;TZID=America/Chicago:20250919T120000
DTEND;TZID=America/Chicago:20250919T180000
DTSTAMP:20260425T084842
CREATED:20250915T192137Z
LAST-MODIFIED:20250915T192137Z
UID:43002-1758283200-1758304800@calendar.brainerd.com
SUMMARY:Oktoberfest at Roundhouse
DESCRIPTION:It’s another OKTOBERFEST at Roundhouse!\nMellow Fellows will be taking the stage Friday night from 6-9pm along with Saturday 1-4pm!\nWe’ll have our Stein Holding Competition\, Beer Wench Contest\, and Hammernalgen! Bring out those lederhosen and drindl for a great weekend full of fun! Pröst! \nView more Brainerd MN Events & Activities | Find Brainerd Resorts | Book your Brainerd Hotel
URL:https://calendar.brainerd.com/event/oktoberfest-at-roundhouse/2025-09-19/
LOCATION:Roundhouse Brewery\, 23836 Smiley Rd\, Nisswa\, MN\, 56468\, United States
GEO:46.4976647;-94.2970957
X-APPLE-STRUCTURED-LOCATION;VALUE=URI;X-ADDRESS=Roundhouse Brewery 23836 Smiley Rd Nisswa MN 56468 United States;X-APPLE-RADIUS=500;X-TITLE=23836 Smiley Rd:geo:-94.2970957,46.4976647
END:VEVENT
END:VCALENDAR