BEGIN:VCALENDAR
VERSION:2.0
PRODID:-//Events Calendar - ECPv6.15.20//NONSGML v1.0//EN
CALSCALE:GREGORIAN
METHOD:PUBLISH
X-ORIGINAL-URL:https://calendar.brainerd.com
X-WR-CALDESC:Events for Events Calendar
REFRESH-INTERVAL;VALUE=DURATION:PT1H
X-Robots-Tag:noindex
X-PUBLISHED-TTL:PT1H
BEGIN:VTIMEZONE
TZID:America/Chicago
BEGIN:DAYLIGHT
TZOFFSETFROM:-0600
TZOFFSETTO:-0500
TZNAME:CDT
DTSTART:20240310T080000
END:DAYLIGHT
BEGIN:STANDARD
TZOFFSETFROM:-0500
TZOFFSETTO:-0600
TZNAME:CST
DTSTART:20241103T070000
END:STANDARD
BEGIN:DAYLIGHT
TZOFFSETFROM:-0600
TZOFFSETTO:-0500
TZNAME:CDT
DTSTART:20250309T080000
END:DAYLIGHT
BEGIN:STANDARD
TZOFFSETFROM:-0500
TZOFFSETTO:-0600
TZNAME:CST
DTSTART:20251102T070000
END:STANDARD
BEGIN:DAYLIGHT
TZOFFSETFROM:-0600
TZOFFSETTO:-0500
TZNAME:CDT
DTSTART:20260308T080000
END:DAYLIGHT
BEGIN:STANDARD
TZOFFSETFROM:-0500
TZOFFSETTO:-0600
TZNAME:CST
DTSTART:20261101T070000
END:STANDARD
END:VTIMEZONE
BEGIN:VEVENT
DTSTART;TZID=America/Chicago:20251101T190000
DTEND;TZID=America/Chicago:20251102T220000
DTSTAMP:20260423T002818
CREATED:20251002T201935Z
LAST-MODIFIED:20251002T201935Z
UID:43256-1762023600-1762120800@calendar.brainerd.com
SUMMARY:Haunted Hidden Hollows - "The Carnival"
DESCRIPTION:Dare to enter Haunted Hidden Hollows at Paul Bunyan Land this October. Back by popular demand is “The Carnival” on steroids. Step inside our three-story Haunted House where shadows move on their own\, twist your way through an 11-acre Corn Maze that comes alive after dark\, and—new this year—experience select Carnival rides with a terrifying edge. The Hollow is designed for those with a strong heart and up\, filled with suspense\, jump scares\, and chilling surprises that will leave even the bravest looking over their shoulder. Gather your friends\, and enemies\, hold on tight\, and prepare for a night you won’t forget. Gates open at 7pm and final ticket is sold at 10pm. For dates\, times\, additional details\, and ticket information\, visit www.Hidden-Hollows.com \nView more Brainerd MN Events & Activities | Find Brainerd Resorts | Book your Brainerd Hotel
URL:https://calendar.brainerd.com/event/haunted-hidden-hollows-the-carnival/2025-11-01/
LOCATION:Paul Bunyan Land\, 17553 State Highway 18\, Brainerd\, 56401\, United States
GEO:46.349516;-94.0292599
X-APPLE-STRUCTURED-LOCATION;VALUE=URI;X-ADDRESS=Paul Bunyan Land 17553 State Highway 18 Brainerd 56401 United States;X-APPLE-RADIUS=500;X-TITLE=17553 State Highway 18:geo:-94.0292599,46.349516
END:VEVENT
BEGIN:VEVENT
DTSTART;TZID=America/Chicago:20251031T190000
DTEND;TZID=America/Chicago:20251101T220000
DTSTAMP:20260423T002818
CREATED:20251002T201935Z
LAST-MODIFIED:20251002T201935Z
UID:43255-1761937200-1762034400@calendar.brainerd.com
SUMMARY:Haunted Hidden Hollows - "The Carnival"
DESCRIPTION:Dare to enter Haunted Hidden Hollows at Paul Bunyan Land this October. Back by popular demand is “The Carnival” on steroids. Step inside our three-story Haunted House where shadows move on their own\, twist your way through an 11-acre Corn Maze that comes alive after dark\, and—new this year—experience select Carnival rides with a terrifying edge. The Hollow is designed for those with a strong heart and up\, filled with suspense\, jump scares\, and chilling surprises that will leave even the bravest looking over their shoulder. Gather your friends\, and enemies\, hold on tight\, and prepare for a night you won’t forget. Gates open at 7pm and final ticket is sold at 10pm. For dates\, times\, additional details\, and ticket information\, visit www.Hidden-Hollows.com \nView more Brainerd MN Events & Activities | Find Brainerd Resorts | Book your Brainerd Hotel
URL:https://calendar.brainerd.com/event/haunted-hidden-hollows-the-carnival/2025-10-31/
LOCATION:Paul Bunyan Land\, 17553 State Highway 18\, Brainerd\, 56401\, United States
GEO:46.349516;-94.0292599
X-APPLE-STRUCTURED-LOCATION;VALUE=URI;X-ADDRESS=Paul Bunyan Land 17553 State Highway 18 Brainerd 56401 United States;X-APPLE-RADIUS=500;X-TITLE=17553 State Highway 18:geo:-94.0292599,46.349516
END:VEVENT
BEGIN:VEVENT
DTSTART;TZID=America/Chicago:20251025T190000
DTEND;TZID=America/Chicago:20251026T220000
DTSTAMP:20260423T002818
CREATED:20251002T201935Z
LAST-MODIFIED:20251002T201935Z
UID:43254-1761418800-1761516000@calendar.brainerd.com
SUMMARY:Haunted Hidden Hollows - "The Carnival"
DESCRIPTION:Dare to enter Haunted Hidden Hollows at Paul Bunyan Land this October. Back by popular demand is “The Carnival” on steroids. Step inside our three-story Haunted House where shadows move on their own\, twist your way through an 11-acre Corn Maze that comes alive after dark\, and—new this year—experience select Carnival rides with a terrifying edge. The Hollow is designed for those with a strong heart and up\, filled with suspense\, jump scares\, and chilling surprises that will leave even the bravest looking over their shoulder. Gather your friends\, and enemies\, hold on tight\, and prepare for a night you won’t forget. Gates open at 7pm and final ticket is sold at 10pm. For dates\, times\, additional details\, and ticket information\, visit www.Hidden-Hollows.com \nView more Brainerd MN Events & Activities | Find Brainerd Resorts | Book your Brainerd Hotel
URL:https://calendar.brainerd.com/event/haunted-hidden-hollows-the-carnival/2025-10-25/
LOCATION:Paul Bunyan Land\, 17553 State Highway 18\, Brainerd\, 56401\, United States
GEO:46.349516;-94.0292599
X-APPLE-STRUCTURED-LOCATION;VALUE=URI;X-ADDRESS=Paul Bunyan Land 17553 State Highway 18 Brainerd 56401 United States;X-APPLE-RADIUS=500;X-TITLE=17553 State Highway 18:geo:-94.0292599,46.349516
END:VEVENT
BEGIN:VEVENT
DTSTART;TZID=America/Chicago:20251024T190000
DTEND;TZID=America/Chicago:20251025T220000
DTSTAMP:20260423T002818
CREATED:20251002T201935Z
LAST-MODIFIED:20251002T201935Z
UID:43253-1761332400-1761429600@calendar.brainerd.com
SUMMARY:Haunted Hidden Hollows - "The Carnival"
DESCRIPTION:Dare to enter Haunted Hidden Hollows at Paul Bunyan Land this October. Back by popular demand is “The Carnival” on steroids. Step inside our three-story Haunted House where shadows move on their own\, twist your way through an 11-acre Corn Maze that comes alive after dark\, and—new this year—experience select Carnival rides with a terrifying edge. The Hollow is designed for those with a strong heart and up\, filled with suspense\, jump scares\, and chilling surprises that will leave even the bravest looking over their shoulder. Gather your friends\, and enemies\, hold on tight\, and prepare for a night you won’t forget. Gates open at 7pm and final ticket is sold at 10pm. For dates\, times\, additional details\, and ticket information\, visit www.Hidden-Hollows.com \nView more Brainerd MN Events & Activities | Find Brainerd Resorts | Book your Brainerd Hotel
URL:https://calendar.brainerd.com/event/haunted-hidden-hollows-the-carnival/2025-10-24/
LOCATION:Paul Bunyan Land\, 17553 State Highway 18\, Brainerd\, 56401\, United States
GEO:46.349516;-94.0292599
X-APPLE-STRUCTURED-LOCATION;VALUE=URI;X-ADDRESS=Paul Bunyan Land 17553 State Highway 18 Brainerd 56401 United States;X-APPLE-RADIUS=500;X-TITLE=17553 State Highway 18:geo:-94.0292599,46.349516
END:VEVENT
BEGIN:VEVENT
DTSTART;TZID=America/Chicago:20251018T190000
DTEND;TZID=America/Chicago:20251019T220000
DTSTAMP:20260423T002818
CREATED:20251002T201935Z
LAST-MODIFIED:20251002T201935Z
UID:43252-1760814000-1760911200@calendar.brainerd.com
SUMMARY:Haunted Hidden Hollows - "The Carnival"
DESCRIPTION:Dare to enter Haunted Hidden Hollows at Paul Bunyan Land this October. Back by popular demand is “The Carnival” on steroids. Step inside our three-story Haunted House where shadows move on their own\, twist your way through an 11-acre Corn Maze that comes alive after dark\, and—new this year—experience select Carnival rides with a terrifying edge. The Hollow is designed for those with a strong heart and up\, filled with suspense\, jump scares\, and chilling surprises that will leave even the bravest looking over their shoulder. Gather your friends\, and enemies\, hold on tight\, and prepare for a night you won’t forget. Gates open at 7pm and final ticket is sold at 10pm. For dates\, times\, additional details\, and ticket information\, visit www.Hidden-Hollows.com \nView more Brainerd MN Events & Activities | Find Brainerd Resorts | Book your Brainerd Hotel
URL:https://calendar.brainerd.com/event/haunted-hidden-hollows-the-carnival/2025-10-18/
LOCATION:Paul Bunyan Land\, 17553 State Highway 18\, Brainerd\, 56401\, United States
GEO:46.349516;-94.0292599
X-APPLE-STRUCTURED-LOCATION;VALUE=URI;X-ADDRESS=Paul Bunyan Land 17553 State Highway 18 Brainerd 56401 United States;X-APPLE-RADIUS=500;X-TITLE=17553 State Highway 18:geo:-94.0292599,46.349516
END:VEVENT
BEGIN:VEVENT
DTSTART;TZID=America/Chicago:20251017T190000
DTEND;TZID=America/Chicago:20251018T220000
DTSTAMP:20260423T002818
CREATED:20251002T201935Z
LAST-MODIFIED:20251002T201935Z
UID:43251-1760727600-1760824800@calendar.brainerd.com
SUMMARY:Haunted Hidden Hollows - "The Carnival"
DESCRIPTION:Dare to enter Haunted Hidden Hollows at Paul Bunyan Land this October. Back by popular demand is “The Carnival” on steroids. Step inside our three-story Haunted House where shadows move on their own\, twist your way through an 11-acre Corn Maze that comes alive after dark\, and—new this year—experience select Carnival rides with a terrifying edge. The Hollow is designed for those with a strong heart and up\, filled with suspense\, jump scares\, and chilling surprises that will leave even the bravest looking over their shoulder. Gather your friends\, and enemies\, hold on tight\, and prepare for a night you won’t forget. Gates open at 7pm and final ticket is sold at 10pm. For dates\, times\, additional details\, and ticket information\, visit www.Hidden-Hollows.com \nView more Brainerd MN Events & Activities | Find Brainerd Resorts | Book your Brainerd Hotel
URL:https://calendar.brainerd.com/event/haunted-hidden-hollows-the-carnival/2025-10-17/
LOCATION:Paul Bunyan Land\, 17553 State Highway 18\, Brainerd\, 56401\, United States
GEO:46.349516;-94.0292599
X-APPLE-STRUCTURED-LOCATION;VALUE=URI;X-ADDRESS=Paul Bunyan Land 17553 State Highway 18 Brainerd 56401 United States;X-APPLE-RADIUS=500;X-TITLE=17553 State Highway 18:geo:-94.0292599,46.349516
END:VEVENT
BEGIN:VEVENT
DTSTART;TZID=America/Chicago:20251011T190000
DTEND;TZID=America/Chicago:20251012T220000
DTSTAMP:20260423T002818
CREATED:20251002T201935Z
LAST-MODIFIED:20251002T201935Z
UID:43250-1760209200-1760306400@calendar.brainerd.com
SUMMARY:Haunted Hidden Hollows - "The Carnival"
DESCRIPTION:Dare to enter Haunted Hidden Hollows at Paul Bunyan Land this October. Back by popular demand is “The Carnival” on steroids. Step inside our three-story Haunted House where shadows move on their own\, twist your way through an 11-acre Corn Maze that comes alive after dark\, and—new this year—experience select Carnival rides with a terrifying edge. The Hollow is designed for those with a strong heart and up\, filled with suspense\, jump scares\, and chilling surprises that will leave even the bravest looking over their shoulder. Gather your friends\, and enemies\, hold on tight\, and prepare for a night you won’t forget. Gates open at 7pm and final ticket is sold at 10pm. For dates\, times\, additional details\, and ticket information\, visit www.Hidden-Hollows.com \nView more Brainerd MN Events & Activities | Find Brainerd Resorts | Book your Brainerd Hotel
URL:https://calendar.brainerd.com/event/haunted-hidden-hollows-the-carnival/2025-10-11/
LOCATION:Paul Bunyan Land\, 17553 State Highway 18\, Brainerd\, 56401\, United States
GEO:46.349516;-94.0292599
X-APPLE-STRUCTURED-LOCATION;VALUE=URI;X-ADDRESS=Paul Bunyan Land 17553 State Highway 18 Brainerd 56401 United States;X-APPLE-RADIUS=500;X-TITLE=17553 State Highway 18:geo:-94.0292599,46.349516
END:VEVENT
BEGIN:VEVENT
DTSTART;TZID=America/Chicago:20251010T190000
DTEND;TZID=America/Chicago:20251011T220000
DTSTAMP:20260423T002818
CREATED:20251002T201935Z
LAST-MODIFIED:20251002T201935Z
UID:43249-1760122800-1760220000@calendar.brainerd.com
SUMMARY:Haunted Hidden Hollows - "The Carnival"
DESCRIPTION:Dare to enter Haunted Hidden Hollows at Paul Bunyan Land this October. Back by popular demand is “The Carnival” on steroids. Step inside our three-story Haunted House where shadows move on their own\, twist your way through an 11-acre Corn Maze that comes alive after dark\, and—new this year—experience select Carnival rides with a terrifying edge. The Hollow is designed for those with a strong heart and up\, filled with suspense\, jump scares\, and chilling surprises that will leave even the bravest looking over their shoulder. Gather your friends\, and enemies\, hold on tight\, and prepare for a night you won’t forget. Gates open at 7pm and final ticket is sold at 10pm. For dates\, times\, additional details\, and ticket information\, visit www.Hidden-Hollows.com \nView more Brainerd MN Events & Activities | Find Brainerd Resorts | Book your Brainerd Hotel
URL:https://calendar.brainerd.com/event/haunted-hidden-hollows-the-carnival/2025-10-10/
LOCATION:Paul Bunyan Land\, 17553 State Highway 18\, Brainerd\, 56401\, United States
GEO:46.349516;-94.0292599
X-APPLE-STRUCTURED-LOCATION;VALUE=URI;X-ADDRESS=Paul Bunyan Land 17553 State Highway 18 Brainerd 56401 United States;X-APPLE-RADIUS=500;X-TITLE=17553 State Highway 18:geo:-94.0292599,46.349516
END:VEVENT
END:VCALENDAR