BEGIN:VCALENDAR
VERSION:2.0
PRODID:-//Events Calendar - ECPv6.15.20//NONSGML v1.0//EN
CALSCALE:GREGORIAN
METHOD:PUBLISH
X-ORIGINAL-URL:https://calendar.brainerd.com
X-WR-CALDESC:Events for Events Calendar
REFRESH-INTERVAL;VALUE=DURATION:PT1H
X-Robots-Tag:noindex
X-PUBLISHED-TTL:PT1H
BEGIN:VTIMEZONE
TZID:America/Chicago
BEGIN:DAYLIGHT
TZOFFSETFROM:-0600
TZOFFSETTO:-0500
TZNAME:CDT
DTSTART:20230312T080000
END:DAYLIGHT
BEGIN:STANDARD
TZOFFSETFROM:-0500
TZOFFSETTO:-0600
TZNAME:CST
DTSTART:20231105T070000
END:STANDARD
BEGIN:DAYLIGHT
TZOFFSETFROM:-0600
TZOFFSETTO:-0500
TZNAME:CDT
DTSTART:20240310T080000
END:DAYLIGHT
BEGIN:STANDARD
TZOFFSETFROM:-0500
TZOFFSETTO:-0600
TZNAME:CST
DTSTART:20241103T070000
END:STANDARD
BEGIN:DAYLIGHT
TZOFFSETFROM:-0600
TZOFFSETTO:-0500
TZNAME:CDT
DTSTART:20250309T080000
END:DAYLIGHT
BEGIN:STANDARD
TZOFFSETFROM:-0500
TZOFFSETTO:-0600
TZNAME:CST
DTSTART:20251102T070000
END:STANDARD
END:VTIMEZONE
BEGIN:VEVENT
DTSTART;TZID=America/Chicago:20240616T090000
DTEND;TZID=America/Chicago:20240616T170000
DTSTAMP:20260420T132226
CREATED:20240612T204249Z
LAST-MODIFIED:20240612T204249Z
UID:32934-1718528400-1718557200@calendar.brainerd.com
SUMMARY:Green Lantern 2nd Annual Craft Show
DESCRIPTION:Don’t miss out on our 2nd annual craft show!\nMore vendors are welcome! \nFriday 6/14 9am-5pm\nSaturday 6/15 9am-5pm\nSunday 6/16 9am-3pm\nFor more information please call 218-839-9807 (please don’t call the bar phone #) \nTraveling for this event? Find Brainerd Lakes Area Lodging
URL:https://calendar.brainerd.com/event/green-lantern-2nd-annual-craft-show/2024-06-16/
LOCATION:Green Lantern Bar and Grill\, 19121 State Hwy 18\, Brainerd\, MN\, 56401\, United States
GEO:46.347289;-93.996101
X-APPLE-STRUCTURED-LOCATION;VALUE=URI;X-ADDRESS=Green Lantern Bar and Grill 19121 State Hwy 18 Brainerd MN 56401 United States;X-APPLE-RADIUS=500;X-TITLE=19121 State Hwy 18:geo:-93.996101,46.347289
END:VEVENT
BEGIN:VEVENT
DTSTART;TZID=America/Chicago:20240615T090000
DTEND;TZID=America/Chicago:20240615T170000
DTSTAMP:20260420T132226
CREATED:20240612T204249Z
LAST-MODIFIED:20240612T204249Z
UID:32933-1718442000-1718470800@calendar.brainerd.com
SUMMARY:Green Lantern 2nd Annual Craft Show
DESCRIPTION:Don’t miss out on our 2nd annual craft show!\nMore vendors are welcome! \nFriday 6/14 9am-5pm\nSaturday 6/15 9am-5pm\nSunday 6/16 9am-3pm\nFor more information please call 218-839-9807 (please don’t call the bar phone #) \nTraveling for this event? Find Brainerd Lakes Area Lodging
URL:https://calendar.brainerd.com/event/green-lantern-2nd-annual-craft-show/2024-06-15/
LOCATION:Green Lantern Bar and Grill\, 19121 State Hwy 18\, Brainerd\, MN\, 56401\, United States
GEO:46.347289;-93.996101
X-APPLE-STRUCTURED-LOCATION;VALUE=URI;X-ADDRESS=Green Lantern Bar and Grill 19121 State Hwy 18 Brainerd MN 56401 United States;X-APPLE-RADIUS=500;X-TITLE=19121 State Hwy 18:geo:-93.996101,46.347289
END:VEVENT
BEGIN:VEVENT
DTSTART;TZID=America/Chicago:20240614T090000
DTEND;TZID=America/Chicago:20240614T170000
DTSTAMP:20260420T132226
CREATED:20240612T204249Z
LAST-MODIFIED:20240612T204249Z
UID:32932-1718355600-1718384400@calendar.brainerd.com
SUMMARY:Green Lantern 2nd Annual Craft Show
DESCRIPTION:Don’t miss out on our 2nd annual craft show!\nMore vendors are welcome! \nFriday 6/14 9am-5pm\nSaturday 6/15 9am-5pm\nSunday 6/16 9am-3pm\nFor more information please call 218-839-9807 (please don’t call the bar phone #) \nTraveling for this event? Find Brainerd Lakes Area Lodging
URL:https://calendar.brainerd.com/event/green-lantern-2nd-annual-craft-show/2024-06-14/
LOCATION:Green Lantern Bar and Grill\, 19121 State Hwy 18\, Brainerd\, MN\, 56401\, United States
GEO:46.347289;-93.996101
X-APPLE-STRUCTURED-LOCATION;VALUE=URI;X-ADDRESS=Green Lantern Bar and Grill 19121 State Hwy 18 Brainerd MN 56401 United States;X-APPLE-RADIUS=500;X-TITLE=19121 State Hwy 18:geo:-93.996101,46.347289
END:VEVENT
END:VCALENDAR