BEGIN:VCALENDAR
VERSION:2.0
PRODID:-//Events Calendar - ECPv6.15.20//NONSGML v1.0//EN
CALSCALE:GREGORIAN
METHOD:PUBLISH
X-ORIGINAL-URL:https://calendar.brainerd.com
X-WR-CALDESC:Events for Events Calendar
REFRESH-INTERVAL;VALUE=DURATION:PT1H
X-Robots-Tag:noindex
X-PUBLISHED-TTL:PT1H
BEGIN:VTIMEZONE
TZID:America/Chicago
BEGIN:DAYLIGHT
TZOFFSETFROM:-0600
TZOFFSETTO:-0500
TZNAME:CDT
DTSTART:20230312T080000
END:DAYLIGHT
BEGIN:STANDARD
TZOFFSETFROM:-0500
TZOFFSETTO:-0600
TZNAME:CST
DTSTART:20231105T070000
END:STANDARD
BEGIN:DAYLIGHT
TZOFFSETFROM:-0600
TZOFFSETTO:-0500
TZNAME:CDT
DTSTART:20240310T080000
END:DAYLIGHT
BEGIN:STANDARD
TZOFFSETFROM:-0500
TZOFFSETTO:-0600
TZNAME:CST
DTSTART:20241103T070000
END:STANDARD
BEGIN:DAYLIGHT
TZOFFSETFROM:-0600
TZOFFSETTO:-0500
TZNAME:CDT
DTSTART:20250309T080000
END:DAYLIGHT
BEGIN:STANDARD
TZOFFSETFROM:-0500
TZOFFSETTO:-0600
TZNAME:CST
DTSTART:20251102T070000
END:STANDARD
END:VTIMEZONE
BEGIN:VEVENT
DTSTART;TZID=America/Chicago:20241027T113000
DTEND;TZID=America/Chicago:20241027T210000
DTSTAMP:20260423T040619
CREATED:20240911T193249Z
LAST-MODIFIED:20240911T193249Z
UID:38922-1730028600-1730062800@calendar.brainerd.com
SUMMARY:Frights\, Bites\, and Boo-ze Weekend
DESCRIPTION:Get ready for a spooktacular weekend at Quarterdeck Resort on #GullLake! Join us for ‘Frights\, Bites\, and Boo-ze’\, where spooky eats\, creepy cocktails\, and ghostly good times await. Here’s what’s creeping your way: \n~ Pumpkin Decorating – Get artsy or eerie…have #smorefun with it!\n~ Guest Trick-or-Treating – No one’s too old for candy\, right? Knock on some doors and see what treats you can score.\n~ Costume Contest – Pull out your best (or worst) costume for a chance to win big!\n~ Prizes – From costumes to creativity\, we’ve got treats for the winners!\n~ Drink Specials – Sip on potions and spirits designed to bring out your inner ghoul. \nIt’s all happening October 25-27\, so grab your crew and get ready for a hauntingly #smorefun weekend on #GullLake \nView more Brainerd MN Events & Activities | Find Brainerd Resorts | Book your Brainerd Hotel
URL:https://calendar.brainerd.com/event/frights-bites-and-boo-ze-weekend/2024-10-27/
LOCATION:Quarterdeck Resort\, 9820 Birch Bay Drive S.W.\, Nisswa\, MN\, 56468\, United States
GEO:46.4483751;-94.3634479
X-APPLE-STRUCTURED-LOCATION;VALUE=URI;X-ADDRESS=Quarterdeck Resort 9820 Birch Bay Drive S.W. Nisswa MN 56468 United States;X-APPLE-RADIUS=500;X-TITLE=9820 Birch Bay Drive S.W.:geo:-94.3634479,46.4483751
END:VEVENT
BEGIN:VEVENT
DTSTART;TZID=America/Chicago:20241026T113000
DTEND;TZID=America/Chicago:20241026T210000
DTSTAMP:20260423T040619
CREATED:20240911T193249Z
LAST-MODIFIED:20240911T193249Z
UID:38921-1729942200-1729976400@calendar.brainerd.com
SUMMARY:Frights\, Bites\, and Boo-ze Weekend
DESCRIPTION:Get ready for a spooktacular weekend at Quarterdeck Resort on #GullLake! Join us for ‘Frights\, Bites\, and Boo-ze’\, where spooky eats\, creepy cocktails\, and ghostly good times await. Here’s what’s creeping your way: \n~ Pumpkin Decorating – Get artsy or eerie…have #smorefun with it!\n~ Guest Trick-or-Treating – No one’s too old for candy\, right? Knock on some doors and see what treats you can score.\n~ Costume Contest – Pull out your best (or worst) costume for a chance to win big!\n~ Prizes – From costumes to creativity\, we’ve got treats for the winners!\n~ Drink Specials – Sip on potions and spirits designed to bring out your inner ghoul. \nIt’s all happening October 25-27\, so grab your crew and get ready for a hauntingly #smorefun weekend on #GullLake \nView more Brainerd MN Events & Activities | Find Brainerd Resorts | Book your Brainerd Hotel
URL:https://calendar.brainerd.com/event/frights-bites-and-boo-ze-weekend/2024-10-26/
LOCATION:Quarterdeck Resort\, 9820 Birch Bay Drive S.W.\, Nisswa\, MN\, 56468\, United States
GEO:46.4483751;-94.3634479
X-APPLE-STRUCTURED-LOCATION;VALUE=URI;X-ADDRESS=Quarterdeck Resort 9820 Birch Bay Drive S.W. Nisswa MN 56468 United States;X-APPLE-RADIUS=500;X-TITLE=9820 Birch Bay Drive S.W.:geo:-94.3634479,46.4483751
END:VEVENT
BEGIN:VEVENT
DTSTART;TZID=America/Chicago:20241025T113000
DTEND;TZID=America/Chicago:20241025T210000
DTSTAMP:20260423T040619
CREATED:20240911T193249Z
LAST-MODIFIED:20240911T193249Z
UID:38920-1729855800-1729890000@calendar.brainerd.com
SUMMARY:Frights\, Bites\, and Boo-ze Weekend
DESCRIPTION:Get ready for a spooktacular weekend at Quarterdeck Resort on #GullLake! Join us for ‘Frights\, Bites\, and Boo-ze’\, where spooky eats\, creepy cocktails\, and ghostly good times await. Here’s what’s creeping your way: \n~ Pumpkin Decorating – Get artsy or eerie…have #smorefun with it!\n~ Guest Trick-or-Treating – No one’s too old for candy\, right? Knock on some doors and see what treats you can score.\n~ Costume Contest – Pull out your best (or worst) costume for a chance to win big!\n~ Prizes – From costumes to creativity\, we’ve got treats for the winners!\n~ Drink Specials – Sip on potions and spirits designed to bring out your inner ghoul. \nIt’s all happening October 25-27\, so grab your crew and get ready for a hauntingly #smorefun weekend on #GullLake \nView more Brainerd MN Events & Activities | Find Brainerd Resorts | Book your Brainerd Hotel
URL:https://calendar.brainerd.com/event/frights-bites-and-boo-ze-weekend/2024-10-25/
LOCATION:Quarterdeck Resort\, 9820 Birch Bay Drive S.W.\, Nisswa\, MN\, 56468\, United States
GEO:46.4483751;-94.3634479
X-APPLE-STRUCTURED-LOCATION;VALUE=URI;X-ADDRESS=Quarterdeck Resort 9820 Birch Bay Drive S.W. Nisswa MN 56468 United States;X-APPLE-RADIUS=500;X-TITLE=9820 Birch Bay Drive S.W.:geo:-94.3634479,46.4483751
END:VEVENT
END:VCALENDAR