BEGIN:VCALENDAR
VERSION:2.0
PRODID:-//Events Calendar - ECPv6.15.20//NONSGML v1.0//EN
CALSCALE:GREGORIAN
METHOD:PUBLISH
X-WR-CALNAME:Events Calendar
X-ORIGINAL-URL:https://calendar.brainerd.com
X-WR-CALDESC:Events for Events Calendar
REFRESH-INTERVAL;VALUE=DURATION:PT1H
X-Robots-Tag:noindex
X-PUBLISHED-TTL:PT1H
BEGIN:VTIMEZONE
TZID:America/Chicago
BEGIN:DAYLIGHT
TZOFFSETFROM:-0600
TZOFFSETTO:-0500
TZNAME:CDT
DTSTART:20220313T080000
END:DAYLIGHT
BEGIN:STANDARD
TZOFFSETFROM:-0500
TZOFFSETTO:-0600
TZNAME:CST
DTSTART:20221106T070000
END:STANDARD
BEGIN:DAYLIGHT
TZOFFSETFROM:-0600
TZOFFSETTO:-0500
TZNAME:CDT
DTSTART:20230312T080000
END:DAYLIGHT
BEGIN:STANDARD
TZOFFSETFROM:-0500
TZOFFSETTO:-0600
TZNAME:CST
DTSTART:20231105T070000
END:STANDARD
BEGIN:DAYLIGHT
TZOFFSETFROM:-0600
TZOFFSETTO:-0500
TZNAME:CDT
DTSTART:20240310T080000
END:DAYLIGHT
BEGIN:STANDARD
TZOFFSETFROM:-0500
TZOFFSETTO:-0600
TZNAME:CST
DTSTART:20241103T070000
END:STANDARD
END:VTIMEZONE
BEGIN:VEVENT
DTSTART;TZID=America/Chicago:20231021T100000
DTEND;TZID=America/Chicago:20231021T160000
DTSTAMP:20260423T033232
CREATED:20231019T204625Z
LAST-MODIFIED:20231019T204625Z
UID:30839-1697882400-1697904000@calendar.brainerd.com
SUMMARY:Fall Farm Market at Country Sunshine
DESCRIPTION:Pumpkin sales will continue on through the fall every Saturday and Sunday up until Halloween. \nTraveling for this event? Find Brainerd Lakes Area Lodging
URL:https://calendar.brainerd.com/event/fall-farm-market-at-country-sunshine-3/2023-10-21/
LOCATION:Country Sunshine\, 2911 145 Ave.\, Brainerd\, MN\, 56401\, United States
GEO:46.1981287;-94.0938205
X-APPLE-STRUCTURED-LOCATION;VALUE=URI;X-ADDRESS=Country Sunshine 2911 145 Ave. Brainerd MN 56401 United States;X-APPLE-RADIUS=500;X-TITLE=2911 145 Ave.:geo:-94.0938205,46.1981287
END:VEVENT
END:VCALENDAR