BEGIN:VCALENDAR
VERSION:2.0
PRODID:-//Events Calendar - ECPv6.15.20//NONSGML v1.0//EN
CALSCALE:GREGORIAN
METHOD:PUBLISH
X-WR-CALNAME:Events Calendar
X-ORIGINAL-URL:https://calendar.brainerd.com
X-WR-CALDESC:Events for Events Calendar
REFRESH-INTERVAL;VALUE=DURATION:PT1H
X-Robots-Tag:noindex
X-PUBLISHED-TTL:PT1H
BEGIN:VTIMEZONE
TZID:America/Chicago
BEGIN:DAYLIGHT
TZOFFSETFROM:-0600
TZOFFSETTO:-0500
TZNAME:CDT
DTSTART:20240310T080000
END:DAYLIGHT
BEGIN:STANDARD
TZOFFSETFROM:-0500
TZOFFSETTO:-0600
TZNAME:CST
DTSTART:20241103T070000
END:STANDARD
BEGIN:DAYLIGHT
TZOFFSETFROM:-0600
TZOFFSETTO:-0500
TZNAME:CDT
DTSTART:20250309T080000
END:DAYLIGHT
BEGIN:STANDARD
TZOFFSETFROM:-0500
TZOFFSETTO:-0600
TZNAME:CST
DTSTART:20251102T070000
END:STANDARD
BEGIN:DAYLIGHT
TZOFFSETFROM:-0600
TZOFFSETTO:-0500
TZNAME:CDT
DTSTART:20260308T080000
END:DAYLIGHT
BEGIN:STANDARD
TZOFFSETFROM:-0500
TZOFFSETTO:-0600
TZNAME:CST
DTSTART:20261101T070000
END:STANDARD
END:VTIMEZONE
BEGIN:VEVENT
DTSTART;TZID=America/Chicago:20250608T180000
DTEND;TZID=America/Chicago:20250608T210000
DTSTAMP:20260423T024919
CREATED:20250605T211429Z
LAST-MODIFIED:20250605T211429Z
UID:41900-1749405600-1749416400@calendar.brainerd.com
SUMMARY:Cragun's Summer Soundtrack
DESCRIPTION:Get ready to soak up the sounds of summer with Cragun’s Summer Soundtrack\, a live music series that brings incredible artists to Cragun’s Resort and Legacy Courses. Whether you’re unwinding on the Sun Deck\, enjoying the lively atmosphere at the Canoe & Paddle Pub\, or taking in the stunning golf course views on the Legacy patio\, these performances will set the perfect tone for your getaway. From toe-tapping tunes to soulful melodies\, each show will energize the crowd\, spark unforgettable moments\, and create the ultimate vacation soundtrack. Don’t miss out on the music\, the memories\, and the magic of summer at Cragun’s! \nThis week we have: \nFriday\, Canoe & Paddle Pub from 8pm – 11pm: John Fox\nSaturday\, Sundeck from 6pm-9pm: AJ Spoff\nSaturday\, Canoe & Paddle Pub from 8pm – 11pm: Karaoke with Kevin\nSunday\, Legacy Courses 3pm-6pm: Danny & Maddie \nView more Brainerd MN Events & Activities | Find Brainerd Resorts | Book your Brainerd Hotel
URL:https://calendar.brainerd.com/event/craguns-summer-soundtrack/2025-06-08/
LOCATION:Cragun’s Resort on Gull Lake\, 11000 Cragun’s Drive\, Brainerd\, MN\, 56401\, United States
GEO:46.3896976;-94.3703992
X-APPLE-STRUCTURED-LOCATION;VALUE=URI;X-ADDRESS=Cragun’s Resort on Gull Lake 11000 Cragun’s Drive Brainerd MN 56401 United States;X-APPLE-RADIUS=500;X-TITLE=11000 Cragun’s Drive:geo:-94.3703992,46.3896976
END:VEVENT
BEGIN:VEVENT
DTSTART;TZID=America/Chicago:20250607T180000
DTEND;TZID=America/Chicago:20250607T210000
DTSTAMP:20260423T024919
CREATED:20250605T211429Z
LAST-MODIFIED:20250605T211429Z
UID:41899-1749319200-1749330000@calendar.brainerd.com
SUMMARY:Cragun's Summer Soundtrack
DESCRIPTION:Get ready to soak up the sounds of summer with Cragun’s Summer Soundtrack\, a live music series that brings incredible artists to Cragun’s Resort and Legacy Courses. Whether you’re unwinding on the Sun Deck\, enjoying the lively atmosphere at the Canoe & Paddle Pub\, or taking in the stunning golf course views on the Legacy patio\, these performances will set the perfect tone for your getaway. From toe-tapping tunes to soulful melodies\, each show will energize the crowd\, spark unforgettable moments\, and create the ultimate vacation soundtrack. Don’t miss out on the music\, the memories\, and the magic of summer at Cragun’s! \nThis week we have: \nFriday\, Canoe & Paddle Pub from 8pm – 11pm: John Fox\nSaturday\, Sundeck from 6pm-9pm: AJ Spoff\nSaturday\, Canoe & Paddle Pub from 8pm – 11pm: Karaoke with Kevin\nSunday\, Legacy Courses 3pm-6pm: Danny & Maddie \nView more Brainerd MN Events & Activities | Find Brainerd Resorts | Book your Brainerd Hotel
URL:https://calendar.brainerd.com/event/craguns-summer-soundtrack/2025-06-07/
LOCATION:Cragun’s Resort on Gull Lake\, 11000 Cragun’s Drive\, Brainerd\, MN\, 56401\, United States
GEO:46.3896976;-94.3703992
X-APPLE-STRUCTURED-LOCATION;VALUE=URI;X-ADDRESS=Cragun’s Resort on Gull Lake 11000 Cragun’s Drive Brainerd MN 56401 United States;X-APPLE-RADIUS=500;X-TITLE=11000 Cragun’s Drive:geo:-94.3703992,46.3896976
END:VEVENT
BEGIN:VEVENT
DTSTART;TZID=America/Chicago:20250606T200000
DTEND;TZID=America/Chicago:20250608T230000
DTSTAMP:20260423T024919
CREATED:20250605T211429Z
LAST-MODIFIED:20250605T211429Z
UID:41898-1749240000-1749423600@calendar.brainerd.com
SUMMARY:Cragun's Summer Soundtrack
DESCRIPTION:Get ready to soak up the sounds of summer with Cragun’s Summer Soundtrack\, a live music series that brings incredible artists to Cragun’s Resort and Legacy Courses. Whether you’re unwinding on the Sun Deck\, enjoying the lively atmosphere at the Canoe & Paddle Pub\, or taking in the stunning golf course views on the Legacy patio\, these performances will set the perfect tone for your getaway. From toe-tapping tunes to soulful melodies\, each show will energize the crowd\, spark unforgettable moments\, and create the ultimate vacation soundtrack. Don’t miss out on the music\, the memories\, and the magic of summer at Cragun’s! \nThis week we have: \nFriday\, Canoe & Paddle Pub from 8pm – 11pm: John Fox\nSaturday\, Sundeck from 6pm-9pm: AJ Spoff\nSaturday\, Canoe & Paddle Pub from 8pm – 11pm: Karaoke with Kevin\nSunday\, Legacy Courses 3pm-6pm: Danny & Maddie \nView more Brainerd MN Events & Activities | Find Brainerd Resorts | Book your Brainerd Hotel
URL:https://calendar.brainerd.com/event/craguns-summer-soundtrack/2025-06-06/
LOCATION:Cragun’s Resort on Gull Lake\, 11000 Cragun’s Drive\, Brainerd\, MN\, 56401\, United States
GEO:46.3896976;-94.3703992
X-APPLE-STRUCTURED-LOCATION;VALUE=URI;X-ADDRESS=Cragun’s Resort on Gull Lake 11000 Cragun’s Drive Brainerd MN 56401 United States;X-APPLE-RADIUS=500;X-TITLE=11000 Cragun’s Drive:geo:-94.3703992,46.3896976
END:VEVENT
END:VCALENDAR