BEGIN:VCALENDAR
VERSION:2.0
PRODID:-//Events Calendar - ECPv6.15.20//NONSGML v1.0//EN
CALSCALE:GREGORIAN
METHOD:PUBLISH
X-WR-CALNAME:Events Calendar
X-ORIGINAL-URL:https://calendar.brainerd.com
X-WR-CALDESC:Events for Events Calendar
REFRESH-INTERVAL;VALUE=DURATION:PT1H
X-Robots-Tag:noindex
X-PUBLISHED-TTL:PT1H
BEGIN:VTIMEZONE
TZID:America/Chicago
BEGIN:DAYLIGHT
TZOFFSETFROM:-0600
TZOFFSETTO:-0500
TZNAME:CDT
DTSTART:20200308T080000
END:DAYLIGHT
BEGIN:STANDARD
TZOFFSETFROM:-0500
TZOFFSETTO:-0600
TZNAME:CST
DTSTART:20201101T070000
END:STANDARD
BEGIN:DAYLIGHT
TZOFFSETFROM:-0600
TZOFFSETTO:-0500
TZNAME:CDT
DTSTART:20210314T080000
END:DAYLIGHT
BEGIN:STANDARD
TZOFFSETFROM:-0500
TZOFFSETTO:-0600
TZNAME:CST
DTSTART:20211107T070000
END:STANDARD
BEGIN:DAYLIGHT
TZOFFSETFROM:-0600
TZOFFSETTO:-0500
TZNAME:CDT
DTSTART:20220313T080000
END:DAYLIGHT
BEGIN:STANDARD
TZOFFSETFROM:-0500
TZOFFSETTO:-0600
TZNAME:CST
DTSTART:20221106T070000
END:STANDARD
END:VTIMEZONE
BEGIN:VEVENT
DTSTART;TZID=America/Chicago:20211126T100000
DTEND;TZID=America/Chicago:20211126T190000
DTSTAMP:20260422T091806
CREATED:20211102T150941Z
LAST-MODIFIED:20211102T150941Z
UID:24837-1637920800-1637953200@calendar.brainerd.com
SUMMARY:Christmas Tours
DESCRIPTION:Start Your Holiday Season in Little Falls\n\n4 FABULOUS TOURS: 1 INCREDIBLE SEASON\nNOVEMBER 26 – DECEMBER 5\, 2021\n\nRosenmeier Home Tours\nNutcracker Suite\nMonday-Saturday 1:00 – 7:00pm\nSunday 11:00am – 6:00pm\nSelf-guided tour\n606 1st Street SE\, Little Falls\n320.616.4959 • littlefallsmn.com\nAdults: $2.00 • Under 18: FREE\n\nMinnesota Fishing Museum & Hall of Fame\nChristmas Tree Lane & Special Displays\n12:00 – 7:00pm Daily\nOver 100+ item Silent Auction featuring over 75\nChristmas trees\, wreaths and gift baskets.\nAuction ends at 6pm on Sunday\, December 5th.\nO-Fish-L Gift Shop open for Holiday Shopping.\nSanta on weekends – pictures for purchase.\nAdults: $5.00 • Under 11: FREE\n304 W Broadway\, Little Falls • 320.616.2011\nFishingHallofFameMN.com | MNFishingMuseum.com\n\nCharles Lindbergh House & Museum\nChristmas on the Lindbergh Farm\nFriday-Saturday: 10:00am – 4:00pm\nSunday: 11:00am – 4:00pm\nStep back in time with costumed interpreters\nand experience the holidays of 100 years ago.\nAdults: $10.00\nSeniors/Veterans/Active Military/College: $8.00\n5-17 Years: $8.00 • 4 & under: FREE • MNHS MEMBERS: FREE\n1620 Lindbergh Drive S\, Little Falls • 320.616.5421\nmnhs.org/lindbergh\n\nLinden Hill Historic Estate\nChristmas at the Mansions Believe\nMon-Sat 1:00 – 7:00pm\, Sun 11:00am – 6:00pm\nEnjoy a self guided tour of the Musser and Weyerhaeuser\nmansions featuring Christmas décor in every room.\nLaura Jane’s Gift Shoppe will be open.\n608 Highland Ave\, Little Falls • 320.616.5580 • Linden-hill.org\nAdults: $15.00 • 12-17 Years $5.00 • 11 & Under: FREE\nBring your own slippers if you wish.\nTraveling for this event? Find Brainerd Lakes Area Lodging
URL:https://calendar.brainerd.com/event/christmas-tours/2021-11-26/
LOCATION:Little Falls Visitor & Convention Center\, 606 1st St SE\, Little Falls\, MN\, 56345\, United States
GEO:45.9708391;-94.3647335
X-APPLE-STRUCTURED-LOCATION;VALUE=URI;X-ADDRESS=Little Falls Visitor & Convention Center 606 1st St SE Little Falls MN 56345 United States;X-APPLE-RADIUS=500;X-TITLE=606 1st St SE:geo:-94.3647335,45.9708391
END:VEVENT
END:VCALENDAR