BEGIN:VCALENDAR
VERSION:2.0
PRODID:-//Events Calendar - ECPv6.15.20//NONSGML v1.0//EN
CALSCALE:GREGORIAN
METHOD:PUBLISH
X-WR-CALNAME:Events Calendar
X-ORIGINAL-URL:https://calendar.brainerd.com
X-WR-CALDESC:Events for Events Calendar
REFRESH-INTERVAL;VALUE=DURATION:PT1H
X-Robots-Tag:noindex
X-PUBLISHED-TTL:PT1H
BEGIN:VTIMEZONE
TZID:America/Chicago
BEGIN:DAYLIGHT
TZOFFSETFROM:-0600
TZOFFSETTO:-0500
TZNAME:CDT
DTSTART:20230312T080000
END:DAYLIGHT
BEGIN:STANDARD
TZOFFSETFROM:-0500
TZOFFSETTO:-0600
TZNAME:CST
DTSTART:20231105T070000
END:STANDARD
BEGIN:DAYLIGHT
TZOFFSETFROM:-0600
TZOFFSETTO:-0500
TZNAME:CDT
DTSTART:20240310T080000
END:DAYLIGHT
BEGIN:STANDARD
TZOFFSETFROM:-0500
TZOFFSETTO:-0600
TZNAME:CST
DTSTART:20241103T070000
END:STANDARD
BEGIN:DAYLIGHT
TZOFFSETFROM:-0600
TZOFFSETTO:-0500
TZNAME:CDT
DTSTART:20250309T080000
END:DAYLIGHT
BEGIN:STANDARD
TZOFFSETFROM:-0500
TZOFFSETTO:-0600
TZNAME:CST
DTSTART:20251102T070000
END:STANDARD
END:VTIMEZONE
BEGIN:VEVENT
DTSTART;TZID=America/Chicago:20241201T100000
DTEND;TZID=America/Chicago:20241201T180000
DTSTAMP:20260423T032910
CREATED:20241105T214951Z
LAST-MODIFIED:20241105T214951Z
UID:39557-1733047200-1733076000@calendar.brainerd.com
SUMMARY:Christmas Acres 2024
DESCRIPTION:🎄🎅 Join us for Christmas Acres at Copper Creek\, a festive celebration happening on weekends from Friday\, November 29 to Sunday\, December 22! Dash through our beautifully lit grounds filled with Christmas trees\, holiday greens\, and seasonal cheer. Shop The Market and Garden Center with beautiful Christmas decor\, goods\, and gifts. Scheduled events run Friday evenings\, Saturdays\, and Sundays\, offering something for everyone. Christmas Acres Workshops and happenings in the Greenhouse are available all week long. Enjoy Christmas shopping\, ornament making\, kids’ crafts\, adult workshops\, ice skating\, and more! Discover all the details and plan your visit by checking our website—don’t miss this magical holiday experience! \nAll the information:\nhttps://www.coppercreeklandscapes.com/christmas-acres \nChristmas Acres is a FREE to attend. \n🚜 Hayrides: Fridays and Saturdays | 4:30PM -6:00PM \n🎅🤶 Visit with Mr. and Mrs. Claus: Saturdays (Dec. 7\, Dec. 14\, & Dec.21) | 3:00PM – 4:30PM \n🎄Open Workshops for Kids and Adults: Available All Week Long | Monday – Saturday | 10:00AM – 6:00PM and Sundays | 10:00AM – 4:00PM \n💌 Letters to Santa: Available All Week Long | Monday – Saturday | 10:00AM – 6:00PM and Sundays | 10:00AM – 4:00PM \n🧶 FREE Keepsake Ornament Making: Available All Week Long | Monday – Saturday | 10:00AM – 6:00PM and Sundays | 10:00AM – 4:00PM \n⛸️ Ice Skating Rink: Bring your own skates! When ice is ready the rink will be available all week long | Monday – Saturday | 10:00AM – 6:00PM and Sundays | 10:))AM – 4:00PM \nDon’t forget to check out our scheduled events and workshops. See our website for tickets and more information! \nMore Scheduled Events \n🎄 Centerpiece Class\n🎄 Making Classes\n🎄 Pot Class\n🎄📚 Story time with Mrs. Claus \n🚚🧁🍪🍭 Skol Food Truck here with us on weekends of Christmas Acres selling hot drinks\, treats\, and goods. Please check the schedule in advance. \nView more Brainerd MN Events & Activities | Find Brainerd Resorts | Book your Brainerd Hotel
URL:https://calendar.brainerd.com/event/christmas-acres-2024/2024-12-01/
LOCATION:Copper Creek Nisswa\, 24735 state highway 371\, Nisswa\, 56468
GEO:46.510276;-94.292067
X-APPLE-STRUCTURED-LOCATION;VALUE=URI;X-ADDRESS=Copper Creek Nisswa 24735 state highway 371 Nisswa 56468;X-APPLE-RADIUS=500;X-TITLE=24735 state highway 371:geo:-94.292067,46.510276
END:VEVENT
BEGIN:VEVENT
DTSTART;TZID=America/Chicago:20241130T100000
DTEND;TZID=America/Chicago:20241130T180000
DTSTAMP:20260423T032910
CREATED:20241105T214951Z
LAST-MODIFIED:20241105T214951Z
UID:39556-1732960800-1732989600@calendar.brainerd.com
SUMMARY:Christmas Acres 2024
DESCRIPTION:🎄🎅 Join us for Christmas Acres at Copper Creek\, a festive celebration happening on weekends from Friday\, November 29 to Sunday\, December 22! Dash through our beautifully lit grounds filled with Christmas trees\, holiday greens\, and seasonal cheer. Shop The Market and Garden Center with beautiful Christmas decor\, goods\, and gifts. Scheduled events run Friday evenings\, Saturdays\, and Sundays\, offering something for everyone. Christmas Acres Workshops and happenings in the Greenhouse are available all week long. Enjoy Christmas shopping\, ornament making\, kids’ crafts\, adult workshops\, ice skating\, and more! Discover all the details and plan your visit by checking our website—don’t miss this magical holiday experience! \nAll the information:\nhttps://www.coppercreeklandscapes.com/christmas-acres \nChristmas Acres is a FREE to attend. \n🚜 Hayrides: Fridays and Saturdays | 4:30PM -6:00PM \n🎅🤶 Visit with Mr. and Mrs. Claus: Saturdays (Dec. 7\, Dec. 14\, & Dec.21) | 3:00PM – 4:30PM \n🎄Open Workshops for Kids and Adults: Available All Week Long | Monday – Saturday | 10:00AM – 6:00PM and Sundays | 10:00AM – 4:00PM \n💌 Letters to Santa: Available All Week Long | Monday – Saturday | 10:00AM – 6:00PM and Sundays | 10:00AM – 4:00PM \n🧶 FREE Keepsake Ornament Making: Available All Week Long | Monday – Saturday | 10:00AM – 6:00PM and Sundays | 10:00AM – 4:00PM \n⛸️ Ice Skating Rink: Bring your own skates! When ice is ready the rink will be available all week long | Monday – Saturday | 10:00AM – 6:00PM and Sundays | 10:))AM – 4:00PM \nDon’t forget to check out our scheduled events and workshops. See our website for tickets and more information! \nMore Scheduled Events \n🎄 Centerpiece Class\n🎄 Making Classes\n🎄 Pot Class\n🎄📚 Story time with Mrs. Claus \n🚚🧁🍪🍭 Skol Food Truck here with us on weekends of Christmas Acres selling hot drinks\, treats\, and goods. Please check the schedule in advance. \nView more Brainerd MN Events & Activities | Find Brainerd Resorts | Book your Brainerd Hotel
URL:https://calendar.brainerd.com/event/christmas-acres-2024/2024-11-30/
LOCATION:Copper Creek Nisswa\, 24735 state highway 371\, Nisswa\, 56468
GEO:46.510276;-94.292067
X-APPLE-STRUCTURED-LOCATION;VALUE=URI;X-ADDRESS=Copper Creek Nisswa 24735 state highway 371 Nisswa 56468;X-APPLE-RADIUS=500;X-TITLE=24735 state highway 371:geo:-94.292067,46.510276
END:VEVENT
BEGIN:VEVENT
DTSTART;TZID=America/Chicago:20241129T100000
DTEND;TZID=America/Chicago:20241129T180000
DTSTAMP:20260423T032910
CREATED:20241105T214951Z
LAST-MODIFIED:20241105T214951Z
UID:39555-1732874400-1732903200@calendar.brainerd.com
SUMMARY:Christmas Acres 2024
DESCRIPTION:🎄🎅 Join us for Christmas Acres at Copper Creek\, a festive celebration happening on weekends from Friday\, November 29 to Sunday\, December 22! Dash through our beautifully lit grounds filled with Christmas trees\, holiday greens\, and seasonal cheer. Shop The Market and Garden Center with beautiful Christmas decor\, goods\, and gifts. Scheduled events run Friday evenings\, Saturdays\, and Sundays\, offering something for everyone. Christmas Acres Workshops and happenings in the Greenhouse are available all week long. Enjoy Christmas shopping\, ornament making\, kids’ crafts\, adult workshops\, ice skating\, and more! Discover all the details and plan your visit by checking our website—don’t miss this magical holiday experience! \nAll the information:\nhttps://www.coppercreeklandscapes.com/christmas-acres \nChristmas Acres is a FREE to attend. \n🚜 Hayrides: Fridays and Saturdays | 4:30PM -6:00PM \n🎅🤶 Visit with Mr. and Mrs. Claus: Saturdays (Dec. 7\, Dec. 14\, & Dec.21) | 3:00PM – 4:30PM \n🎄Open Workshops for Kids and Adults: Available All Week Long | Monday – Saturday | 10:00AM – 6:00PM and Sundays | 10:00AM – 4:00PM \n💌 Letters to Santa: Available All Week Long | Monday – Saturday | 10:00AM – 6:00PM and Sundays | 10:00AM – 4:00PM \n🧶 FREE Keepsake Ornament Making: Available All Week Long | Monday – Saturday | 10:00AM – 6:00PM and Sundays | 10:00AM – 4:00PM \n⛸️ Ice Skating Rink: Bring your own skates! When ice is ready the rink will be available all week long | Monday – Saturday | 10:00AM – 6:00PM and Sundays | 10:))AM – 4:00PM \nDon’t forget to check out our scheduled events and workshops. See our website for tickets and more information! \nMore Scheduled Events \n🎄 Centerpiece Class\n🎄 Making Classes\n🎄 Pot Class\n🎄📚 Story time with Mrs. Claus \n🚚🧁🍪🍭 Skol Food Truck here with us on weekends of Christmas Acres selling hot drinks\, treats\, and goods. Please check the schedule in advance. \nView more Brainerd MN Events & Activities | Find Brainerd Resorts | Book your Brainerd Hotel
URL:https://calendar.brainerd.com/event/christmas-acres-2024/2024-11-29/
LOCATION:Copper Creek Nisswa\, 24735 state highway 371\, Nisswa\, 56468
GEO:46.510276;-94.292067
X-APPLE-STRUCTURED-LOCATION;VALUE=URI;X-ADDRESS=Copper Creek Nisswa 24735 state highway 371 Nisswa 56468;X-APPLE-RADIUS=500;X-TITLE=24735 state highway 371:geo:-94.292067,46.510276
END:VEVENT
END:VCALENDAR