BEGIN:VCALENDAR
VERSION:2.0
PRODID:-//Events Calendar - ECPv6.15.20//NONSGML v1.0//EN
CALSCALE:GREGORIAN
METHOD:PUBLISH
X-WR-CALNAME:Events Calendar
X-ORIGINAL-URL:https://calendar.brainerd.com
X-WR-CALDESC:Events for Events Calendar
REFRESH-INTERVAL;VALUE=DURATION:PT1H
X-Robots-Tag:noindex
X-PUBLISHED-TTL:PT1H
BEGIN:VTIMEZONE
TZID:America/Chicago
BEGIN:DAYLIGHT
TZOFFSETFROM:-0600
TZOFFSETTO:-0500
TZNAME:CDT
DTSTART:20230312T080000
END:DAYLIGHT
BEGIN:STANDARD
TZOFFSETFROM:-0500
TZOFFSETTO:-0600
TZNAME:CST
DTSTART:20231105T070000
END:STANDARD
BEGIN:DAYLIGHT
TZOFFSETFROM:-0600
TZOFFSETTO:-0500
TZNAME:CDT
DTSTART:20240310T080000
END:DAYLIGHT
BEGIN:STANDARD
TZOFFSETFROM:-0500
TZOFFSETTO:-0600
TZNAME:CST
DTSTART:20241103T070000
END:STANDARD
BEGIN:DAYLIGHT
TZOFFSETFROM:-0600
TZOFFSETTO:-0500
TZNAME:CDT
DTSTART:20250309T080000
END:DAYLIGHT
BEGIN:STANDARD
TZOFFSETFROM:-0500
TZOFFSETTO:-0600
TZNAME:CST
DTSTART:20251102T070000
END:STANDARD
END:VTIMEZONE
BEGIN:VEVENT
DTSTART;TZID=America/Chicago:20241024T100000
DTEND;TZID=America/Chicago:20241024T180000
DTSTAMP:20260420T185930
CREATED:20241021T184227Z
LAST-MODIFIED:20241021T184227Z
UID:39376-1729764000-1729792800@calendar.brainerd.com
SUMMARY:Big Fall Book Sale
DESCRIPTION:Friends of the Brainerd Public Library Book Sale \nThe Friends of the Library will be accepting DONATIONS ONLY (no shopping) at the Westgate Mall on Tuesdays from 9 AM – 3 PM through October 15th. \nThe Big Fall Book Sale will be October 22 – 24 from 10 AM – 6 PM. \nView more Brainerd MN Events & Activities | Find Brainerd Resorts | Book your Brainerd Hotel
URL:https://calendar.brainerd.com/event/big-fall-book-sale/2024-10-24/
LOCATION:Brainerd Public Library\, 416 S. 5th Street\, Brainerd\, 56401\, United States
GEO:46.3542168;-94.2028778
X-APPLE-STRUCTURED-LOCATION;VALUE=URI;X-ADDRESS=Brainerd Public Library 416 S. 5th Street Brainerd 56401 United States;X-APPLE-RADIUS=500;X-TITLE=416 S. 5th Street:geo:-94.2028778,46.3542168
END:VEVENT
BEGIN:VEVENT
DTSTART;TZID=America/Chicago:20241023T100000
DTEND;TZID=America/Chicago:20241023T180000
DTSTAMP:20260420T185930
CREATED:20241021T184227Z
LAST-MODIFIED:20241021T184227Z
UID:39375-1729677600-1729706400@calendar.brainerd.com
SUMMARY:Big Fall Book Sale
DESCRIPTION:Friends of the Brainerd Public Library Book Sale \nThe Friends of the Library will be accepting DONATIONS ONLY (no shopping) at the Westgate Mall on Tuesdays from 9 AM – 3 PM through October 15th. \nThe Big Fall Book Sale will be October 22 – 24 from 10 AM – 6 PM. \nView more Brainerd MN Events & Activities | Find Brainerd Resorts | Book your Brainerd Hotel
URL:https://calendar.brainerd.com/event/big-fall-book-sale/2024-10-23/
LOCATION:Brainerd Public Library\, 416 S. 5th Street\, Brainerd\, 56401\, United States
GEO:46.3542168;-94.2028778
X-APPLE-STRUCTURED-LOCATION;VALUE=URI;X-ADDRESS=Brainerd Public Library 416 S. 5th Street Brainerd 56401 United States;X-APPLE-RADIUS=500;X-TITLE=416 S. 5th Street:geo:-94.2028778,46.3542168
END:VEVENT
BEGIN:VEVENT
DTSTART;TZID=America/Chicago:20241022T100000
DTEND;TZID=America/Chicago:20241022T180000
DTSTAMP:20260420T185930
CREATED:20241021T184227Z
LAST-MODIFIED:20241021T184227Z
UID:39373-1729591200-1729620000@calendar.brainerd.com
SUMMARY:Big Fall Book Sale
DESCRIPTION:Friends of the Brainerd Public Library Book Sale \nThe Friends of the Library will be accepting DONATIONS ONLY (no shopping) at the Westgate Mall on Tuesdays from 9 AM – 3 PM through October 15th. \nThe Big Fall Book Sale will be October 22 – 24 from 10 AM – 6 PM. \nView more Brainerd MN Events & Activities | Find Brainerd Resorts | Book your Brainerd Hotel
URL:https://calendar.brainerd.com/event/big-fall-book-sale/2024-10-22/
LOCATION:Brainerd Public Library\, 416 S. 5th Street\, Brainerd\, 56401\, United States
GEO:46.3542168;-94.2028778
X-APPLE-STRUCTURED-LOCATION;VALUE=URI;X-ADDRESS=Brainerd Public Library 416 S. 5th Street Brainerd 56401 United States;X-APPLE-RADIUS=500;X-TITLE=416 S. 5th Street:geo:-94.2028778,46.3542168
END:VEVENT
END:VCALENDAR