BEGIN:VCALENDAR
VERSION:2.0
PRODID:-//Events Calendar - ECPv6.15.20//NONSGML v1.0//EN
CALSCALE:GREGORIAN
METHOD:PUBLISH
X-WR-CALNAME:Events Calendar
X-ORIGINAL-URL:https://calendar.brainerd.com
X-WR-CALDESC:Events for Events Calendar
REFRESH-INTERVAL;VALUE=DURATION:PT1H
X-Robots-Tag:noindex
X-PUBLISHED-TTL:PT1H
BEGIN:VTIMEZONE
TZID:America/Chicago
BEGIN:DAYLIGHT
TZOFFSETFROM:-0600
TZOFFSETTO:-0500
TZNAME:CDT
DTSTART:20230312T080000
END:DAYLIGHT
BEGIN:STANDARD
TZOFFSETFROM:-0500
TZOFFSETTO:-0600
TZNAME:CST
DTSTART:20231105T070000
END:STANDARD
BEGIN:DAYLIGHT
TZOFFSETFROM:-0600
TZOFFSETTO:-0500
TZNAME:CDT
DTSTART:20240310T080000
END:DAYLIGHT
BEGIN:STANDARD
TZOFFSETFROM:-0500
TZOFFSETTO:-0600
TZNAME:CST
DTSTART:20241103T070000
END:STANDARD
BEGIN:DAYLIGHT
TZOFFSETFROM:-0600
TZOFFSETTO:-0500
TZNAME:CDT
DTSTART:20250309T080000
END:DAYLIGHT
BEGIN:STANDARD
TZOFFSETFROM:-0500
TZOFFSETTO:-0600
TZNAME:CST
DTSTART:20251102T070000
END:STANDARD
END:VTIMEZONE
BEGIN:VEVENT
DTSTART;TZID=America/Chicago:20241208T140000
DTEND;TZID=America/Chicago:20241208T160000
DTSTAMP:20260419T170351
CREATED:20240930T173046Z
LAST-MODIFIED:20240930T173046Z
UID:39163-1733666400-1733673600@calendar.brainerd.com
SUMMARY:A Christmas Carol @Chalberg Theatre
DESCRIPTION:Patrick Barlow\, writer of the Broadway and West End hit The 39 Steps\, has retold Charles Dickens’ holiday classic\, A Christmas Carol.  This thrilling adaptation uses only five actors to bring some of Dickens’ most beloved characters to life.  From Scrooge and Tiny Tim to Bob Cratchit and Mr. Fezziwig\, Barlow’s A Christmas Carol uses nothing more than some simple props\, fresh physicality\, and the power of imagination to convey this timeless story of redemption.  Witness Ebenezer Scrooge’s transformation from a stingy miser to a man who generously celebrates the spirit of the season all year long\, in this highly theatrical adaptation. \nA Brainerd Community Theatre production \nDecember 4-7 @ 7pm\nDecember 7 & 8 @ 2pm \nChalberg Theatre / CLC Brainerd Campus \nTickets: Adults $16 / Seniors $13 / Under 18 $10\n CLC Students $5 (purchase at the Box Office) \nAccessible Seating & ASL Interpreter Services:  Please call the Box Office at 218-855-8199 if you are in need of ADA/Wheelchair/Accessible seating arrangements or ASL Interpreter Services (we kindly ask for a two-week notice for ASL Services). \nView more Brainerd MN Events & Activities | Find Brainerd Resorts | Book your Brainerd Hotel
URL:https://calendar.brainerd.com/event/a-christmas-carol-chalberg-theatre-2/2024-12-08/
LOCATION:Central Lakes Community College – Chalberg Theatre\, 501 W. College Dr.\, Brainerd\, MN\, 56401\, United States
GEO:46.345808;-94.215585
X-APPLE-STRUCTURED-LOCATION;VALUE=URI;X-ADDRESS=Central Lakes Community College – Chalberg Theatre 501 W. College Dr. Brainerd MN 56401 United States;X-APPLE-RADIUS=500;X-TITLE=501 W. College Dr.:geo:-94.215585,46.345808
END:VEVENT
BEGIN:VEVENT
DTSTART;TZID=America/Chicago:20241207T140000
DTEND;TZID=America/Chicago:20241207T160000
DTSTAMP:20260419T170351
CREATED:20240930T173046Z
LAST-MODIFIED:20240930T173046Z
UID:39149-1733580000-1733587200@calendar.brainerd.com
SUMMARY:A Christmas Carol @Chalberg Theatre
DESCRIPTION:Patrick Barlow\, writer of the Broadway and West End hit The 39 Steps\, has retold Charles Dickens’ holiday classic\, A Christmas Carol.  This thrilling adaptation uses only five actors to bring some of Dickens’ most beloved characters to life.  From Scrooge and Tiny Tim to Bob Cratchit and Mr. Fezziwig\, Barlow’s A Christmas Carol uses nothing more than some simple props\, fresh physicality\, and the power of imagination to convey this timeless story of redemption.  Witness Ebenezer Scrooge’s transformation from a stingy miser to a man who generously celebrates the spirit of the season all year long\, in this highly theatrical adaptation. \nA Brainerd Community Theatre production \nDecember 4-7 @ 7pm\nDecember 7 & 8 @ 2pm \nChalberg Theatre / CLC Brainerd Campus \nTickets: Adults $16 / Seniors $13 / Under 18 $10\n CLC Students $5 (purchase at the Box Office) \nAccessible Seating & ASL Interpreter Services:  Please call the Box Office at 218-855-8199 if you are in need of ADA/Wheelchair/Accessible seating arrangements or ASL Interpreter Services (we kindly ask for a two-week notice for ASL Services). \nView more Brainerd MN Events & Activities | Find Brainerd Resorts | Book your Brainerd Hotel
URL:https://calendar.brainerd.com/event/a-christmas-carol-chalberg-theatre-2/2024-12-07/
LOCATION:Central Lakes Community College – Chalberg Theatre\, 501 W. College Dr.\, Brainerd\, MN\, 56401\, United States
GEO:46.345808;-94.215585
X-APPLE-STRUCTURED-LOCATION;VALUE=URI;X-ADDRESS=Central Lakes Community College – Chalberg Theatre 501 W. College Dr. Brainerd MN 56401 United States;X-APPLE-RADIUS=500;X-TITLE=501 W. College Dr.:geo:-94.215585,46.345808
END:VEVENT
END:VCALENDAR