BEGIN:VCALENDAR
VERSION:2.0
PRODID:-//Events Calendar - ECPv6.15.20//NONSGML v1.0//EN
CALSCALE:GREGORIAN
METHOD:PUBLISH
X-WR-CALNAME:Events Calendar
X-ORIGINAL-URL:http://calendar.brainerd.com
X-WR-CALDESC:Events for Events Calendar
REFRESH-INTERVAL;VALUE=DURATION:PT1H
X-Robots-Tag:noindex
X-PUBLISHED-TTL:PT1H
BEGIN:VTIMEZONE
TZID:America/Chicago
BEGIN:DAYLIGHT
TZOFFSETFROM:-0600
TZOFFSETTO:-0500
TZNAME:CDT
DTSTART:20220313T080000
END:DAYLIGHT
BEGIN:STANDARD
TZOFFSETFROM:-0500
TZOFFSETTO:-0600
TZNAME:CST
DTSTART:20221106T070000
END:STANDARD
BEGIN:DAYLIGHT
TZOFFSETFROM:-0600
TZOFFSETTO:-0500
TZNAME:CDT
DTSTART:20230312T080000
END:DAYLIGHT
BEGIN:STANDARD
TZOFFSETFROM:-0500
TZOFFSETTO:-0600
TZNAME:CST
DTSTART:20231105T070000
END:STANDARD
BEGIN:DAYLIGHT
TZOFFSETFROM:-0600
TZOFFSETTO:-0500
TZNAME:CDT
DTSTART:20240310T080000
END:DAYLIGHT
BEGIN:STANDARD
TZOFFSETFROM:-0500
TZOFFSETTO:-0600
TZNAME:CST
DTSTART:20241103T070000
END:STANDARD
BEGIN:DAYLIGHT
TZOFFSETFROM:-0600
TZOFFSETTO:-0500
TZNAME:CDT
DTSTART:20250309T080000
END:DAYLIGHT
BEGIN:STANDARD
TZOFFSETFROM:-0500
TZOFFSETTO:-0600
TZNAME:CST
DTSTART:20251102T070000
END:STANDARD
BEGIN:DAYLIGHT
TZOFFSETFROM:-0600
TZOFFSETTO:-0500
TZNAME:CDT
DTSTART:20260308T080000
END:DAYLIGHT
BEGIN:STANDARD
TZOFFSETFROM:-0500
TZOFFSETTO:-0600
TZNAME:CST
DTSTART:20261101T070000
END:STANDARD
END:VTIMEZONE
BEGIN:VEVENT
DTSTART;TZID=America/Chicago:20250512T173000
DTEND;TZID=America/Chicago:20250512T193000
DTSTAMP:20260423T113742
CREATED:20250410T194557Z
LAST-MODIFIED:20250410T194557Z
UID:41271-1747071000-1747078200@calendar.brainerd.com
SUMMARY:Mother Daughter Makeup Class
DESCRIPTION:MOTHER & DAUGHTER MAKEUP\nCLASS: \nTaught by Nikki-\nFeaturing Her Mother as the Model! \nYou’re invited to a special makeup class designed to bring loved ones together through beauty and bonding. Whether you’re bringing your mother\, daughter\, or a close friend\, this event promises a fun and heartwarming experience you won’t forget! \nDATE: Monday\, May 12th\nTIME: 5:30 PM – 7:30 PM\nLOCATION: Thairapy Lash & Beauty Bar Downtown Brainerd \nWHAT TO BRING:\n-Your own makeup\n-Headband or hair clip\n-Do not wear white\n-Come with a clean makeup free face! \n$75 for both or $40 Individual\nPlease call the salon to RSVP your space at 218-831-3204 \nView more Brainerd MN Events & Activities | Find Brainerd Resorts | Book your Brainerd Hotel
URL:http://calendar.brainerd.com/event/mother-daughter-makeup-class/
LOCATION:Thairapy Lash & Beauty Bar\, 618 Front Street\, Brainerd\, MN\, 56401\, United States
GEO:46.3567103;-94.1996296
X-APPLE-STRUCTURED-LOCATION;VALUE=URI;X-ADDRESS=DESCRIPTION:MOTHER & DAUGHTER MAKEUP\nCLASS: \nTaught by Nikki-\nFeaturing Her Mother as the Model! \nYou’re invited to a special makeup class designed to bring loved ones together through beauty and bonding. Whether you’re bringing your mother daughter or a close friend this event promises a fun and heartwarming experience you won’t forget! \nDATE: Monday May 12th\nTIME: 5:30 PM – 7:30 PM\n Thairapy Lash & Beauty Bar Downtown Brainerd \nWHAT TO BRING:\n-Your own makeup\n-Headband or hair clip\n-Do not wear white\n-Come with a clean makeup free face! \n$75 for both or $40 Individual\nPlease call the salon to RSVP your space at 218-831-3204 \nView more Brainerd MN Events & Activities | Find Brainerd Resorts | Book your Brainerd Hotel;X-APPLE-RADIUS=500;X-TITLE=618 Front Street:geo:-94.1996296,46.3567103
END:VEVENT
BEGIN:VEVENT
DTSTART;TZID=America/Chicago:20230318T150000
DTEND;TZID=America/Chicago:20230318T170000
DTSTAMP:20260423T113742
CREATED:20230315T202443Z
LAST-MODIFIED:20230315T202443Z
UID:28925-1679151600-1679158800@calendar.brainerd.com
SUMMARY:‘Mess to Masterpiece’ Habitat Fundraising Painting Event
DESCRIPTION:Come join us for an hour and a half painting class led by local artist and author Kathleen Krueger.\nTogether we will learn techniques that will take a ‘mess’ and turn it into an abstract floral arrangement. All supplies to be used are included in the class price.\nProceeds from the class will help fund a local Habitat for Humanity build. Together we will have a lot of fun and help make a difference in our community.\nAppetizers and beverages included. Space is limited so reserve early! \nTraveling for this event? Find Brainerd Lakes Area Lodging
URL:http://calendar.brainerd.com/event/mess-to-masterpiece-habitat-fundraising-painting-event/
LOCATION:Thairapy Lash & Beauty Bar\, 618 Front Street\, Brainerd\, MN\, 56401\, United States
GEO:46.3567103;-94.1996296
X-APPLE-STRUCTURED-LOCATION;VALUE=URI;X-ADDRESS=Thairapy Lash & Beauty Bar 618 Front Street Brainerd MN 56401 United States;X-APPLE-RADIUS=500;X-TITLE=618 Front Street:geo:-94.1996296,46.3567103
END:VEVENT
END:VCALENDAR